BEGIN:VCALENDAR
VERSION:2.0
PRODID:-//a maker&#039;s circle - ECPv6.15.20//NONSGML v1.0//EN
CALSCALE:GREGORIAN
METHOD:PUBLISH
X-ORIGINAL-URL:https://amakerscircle.com
X-WR-CALDESC:Events for a maker&#039;s circle
REFRESH-INTERVAL;VALUE=DURATION:PT1H
X-Robots-Tag:noindex
X-PUBLISHED-TTL:PT1H
BEGIN:VTIMEZONE
TZID:America/New_York
BEGIN:DAYLIGHT
TZOFFSETFROM:-0500
TZOFFSETTO:-0400
TZNAME:EDT
DTSTART:20250309T070000
END:DAYLIGHT
BEGIN:STANDARD
TZOFFSETFROM:-0400
TZOFFSETTO:-0500
TZNAME:EST
DTSTART:20251102T060000
END:STANDARD
BEGIN:DAYLIGHT
TZOFFSETFROM:-0500
TZOFFSETTO:-0400
TZNAME:EDT
DTSTART:20260308T070000
END:DAYLIGHT
BEGIN:STANDARD
TZOFFSETFROM:-0400
TZOFFSETTO:-0500
TZNAME:EST
DTSTART:20261101T060000
END:STANDARD
BEGIN:DAYLIGHT
TZOFFSETFROM:-0500
TZOFFSETTO:-0400
TZNAME:EDT
DTSTART:20270314T070000
END:DAYLIGHT
BEGIN:STANDARD
TZOFFSETFROM:-0400
TZOFFSETTO:-0500
TZNAME:EST
DTSTART:20271107T060000
END:STANDARD
END:VTIMEZONE
BEGIN:VEVENT
DTSTART;VALUE=DATE:20261006
DTEND;VALUE=DATE:20261007
DTSTAMP:20260425T223656
CREATED:20260224T115933Z
LAST-MODIFIED:20260224T223832Z
UID:10007874-1791244800-1791331199@amakerscircle.com
SUMMARY:March Open Studio for Current Students
DESCRIPTION:Join us for Open Studio time in March!  With all access\, we provide a relaxed self – directed environment for clay artists of all levels to create\, explore\, and connect. \nWhether you are continuing a personal project\, practicing wheel throwing or hand building; open studio offers access to tools\, equipment\, and community.
URL:https://amakerscircle.com/class-workshop/march-open-studio-for-current-students/2026-10-06/
LOCATION:A Maker’s Circle Studio\, 8 Hacklebarney Road\, Pottersville\, NJ\, 07979\, United States
CATEGORIES:Adult,Pottery,Susan Palmer
ATTACH;FMTTYPE=image/jpeg:https://amakerscircle.com/wp-content/uploads/i-M2Z6H5p-L-e1771972699945.jpg
END:VEVENT
BEGIN:VEVENT
DTSTART;TZID=America/New_York:20261006T070000
DTEND;TZID=America/New_York:20261006T230000
DTSTAMP:20260425T223656
CREATED:20260125T195648Z
LAST-MODIFIED:20260125T200354Z
UID:10007369-1791270000-1791327600@amakerscircle.com
SUMMARY:February Ceramic Open Studio for Current Students
DESCRIPTION:Join us for Open Studio time in February!  With all access\, we provide a relaxed self – directed environment for clay artists of all levels to create\, explore\, and connect. \nWhether you are continuing a personal project\, practicing wheel throwing or hand building; open studio offers access to tools\, equipment\, and community.
URL:https://amakerscircle.com/class-workshop/february-ceramic-open-studio-for-current-students/2026-10-06/
LOCATION:A Maker’s Circle Studio\, 8 Hacklebarney Road\, Pottersville\, NJ\, 07979\, United States
CATEGORIES:Adult,Pottery,Studio A - Nancy,Studio B - Alec,Susan Palmer
ATTACH;FMTTYPE=image/jpeg:https://amakerscircle.com/wp-content/uploads/IMG_4774-wheel-scaled.jpeg
ORGANIZER;CN="a maker's circle":MAILTO:amakerscircle@gmail.com
END:VEVENT
BEGIN:VEVENT
DTSTART;TZID=America/New_York:20261006T100000
DTEND;TZID=America/New_York:20261006T120000
DTSTAMP:20260425T223656
CREATED:20260323T211127Z
LAST-MODIFIED:20260415T123315Z
UID:10009882-1791280800-1791288000@amakerscircle.com
SUMMARY:Fundamentals in Watercolor with Jackie Pankuck: 6 wks\, Tuesdays\, May/June
DESCRIPTION:[vc_row][vc_column][vc_column_text css=””]. \nTuesdays\, 6 wks\, 5/12-6/23 (skip 6/2) \nLearning and mastering the fundamentals is critical whether you are new to watercolor or already painting.  There are critical skills that every painter needs to maker their work more fresher and more sophisticated. This series will cover skills needed by the watercolor artist to manage the paint better so you can enjoy your painting time. \nThis 6 week look at fundamentals includes: \n\nPigment strength – when\, where and how is a critically important in watercolor. Without this knowledge your paintings will look anemic and flat.\nColor Mixing – how to get the color you want\, fast.\nEdges – edge control is all about timing and pigment strength. Without this skill you paintings will be either washed out or too chaotic.\nDeconstructing a scene for the best watercolor outcome. You have to learn how to “see” and scene\, deconstruct the layers and form a strategy for executing it.\n\n \nCancelation: Studios cancelling more than 1 week ahead of the series start\, will receive a full refund. After that\, tuition is non refundable. \n[/vc_column_text][/vc_column][/vc_row]
URL:https://amakerscircle.com/class-workshop/fundamentals-in-watercolor-with-jackie-pankuck-8-wks-5-12-6-23/2026-10-06/
LOCATION:A Maker’s Circle Studio\, 8 Hacklebarney Road\, Pottersville\, NJ\, 07979\, United States
CATEGORIES:Adult,Jackie Pankuck,Painting,Studio C - Sharon
ATTACH;FMTTYPE=image/jpeg:https://amakerscircle.com/wp-content/uploads/C3AFC224-32CD-4F86-8D95-8363588DFB46-scaled.jpeg
END:VEVENT
BEGIN:VEVENT
DTSTART;TZID=America/New_York:20261007T110000
DTEND;TZID=America/New_York:20261007T130000
DTSTAMP:20260425T223656
CREATED:20260405T032237Z
LAST-MODIFIED:20260415T114127Z
UID:10010403-1791370800-1791378000@amakerscircle.com
SUMMARY:Beginner/Intermediate Watercolor Series with Jackie Pankuck - Wednesdays\, May/June
DESCRIPTION:This 6 week beginner to intermediate watercolor series is the perfect series for the person who has not used watercolor OR  does not feel comfortable with the medium yet. During this series\, Jackie will focus on important skills to increase your comfort level through exercises and painting less complex scenes. You will be led step by step through the process in order to train you to create a system that will help you paint with more confidence. \nClasses are on Wednesdays from May 13\, 20\, June 3\, 10\, 17\, 24 (skip May 27) \nThe pace of this class will allow for personal attention and group discussion which will help everyone’s learning excel. \nAll materials will be provided.
URL:https://amakerscircle.com/class-workshop/29513/2026-10-07/
LOCATION:A Maker’s Circle Studio\, 8 Hacklebarney Road\, Pottersville\, NJ\, 07979\, United States
CATEGORIES:Adult,Jackie Pankuck,Painting,Studio C - Sharon
ATTACH;FMTTYPE=image/jpeg:https://amakerscircle.com/wp-content/uploads/2F306ECF-4B95-4292-8EC5-889F67EB449C_1_201_a-scaled.jpeg
END:VEVENT
BEGIN:VEVENT
DTSTART;TZID=America/New_York:20261102T090000
DTEND;TZID=America/New_York:20261102T160000
DTSTAMP:20260425T223656
CREATED:20260214T185107Z
LAST-MODIFIED:20260320T213152Z
UID:10007622-1793610000-1793635200@amakerscircle.com
SUMMARY:Guest Artist\, Marc Folly: 4 Day Watercolor Workshop\, Nov. 2-5 (9am-4pm)
DESCRIPTION:Marc Folly is an international\, award-winning artist who’s approach to watercolor is unique to him. His students benefit greatly from seeing the medium through his eyes. \nHe is a lover of strong lights and deep\, powerful colors\, Marc Folly is inspired by unusual subjects with complex and textural elements that often stem from the more mundane aspects of his encounters. Whether it be in urban or industrial\, he strives to reveal imprints of human labor in various types of workshops. He captures the evidence of thought and process as they appear within cluttered and seemingly messy spaces devoted to creation and transformation. \nThis workshop is appropriate for students who have had some experience with watercolors.  A materials list will be provided after signup. \n  \n       \n  \nA list of some lodging options can be found here. Just scroll to the bottom of the page. \nhttps://shop.marc-folly.com/fr/
URL:https://amakerscircle.com/class-workshop/guest-artist-marc-foley-4-day-watercolor-workshop-nov-2-5-9a-4p/
LOCATION:A Maker’s Circle Studio\, 8 Hacklebarney Road\, Pottersville\, NJ\, 07979\, United States
CATEGORIES:Adult,Marc Foley,Painting,Studio C - Sharon
ATTACH;FMTTYPE=image/jpeg:https://amakerscircle.com/wp-content/uploads/Chaise-sous-lampe-3-35X35-scaled.jpg
ORGANIZER;CN="a maker's circle":MAILTO:amakerscircle@gmail.com
END:VEVENT
END:VCALENDAR