BEGIN:VCALENDAR
VERSION:2.0
PRODID:-//a maker&#039;s circle - ECPv6.15.20//NONSGML v1.0//EN
CALSCALE:GREGORIAN
METHOD:PUBLISH
X-WR-CALNAME:a maker&#039;s circle
X-ORIGINAL-URL:https://amakerscircle.com
X-WR-CALDESC:Events for a maker&#039;s circle
REFRESH-INTERVAL;VALUE=DURATION:PT1H
X-Robots-Tag:noindex
X-PUBLISHED-TTL:PT1H
BEGIN:VTIMEZONE
TZID:America/New_York
BEGIN:DAYLIGHT
TZOFFSETFROM:-0500
TZOFFSETTO:-0400
TZNAME:EDT
DTSTART:20240310T070000
END:DAYLIGHT
BEGIN:STANDARD
TZOFFSETFROM:-0400
TZOFFSETTO:-0500
TZNAME:EST
DTSTART:20241103T060000
END:STANDARD
BEGIN:DAYLIGHT
TZOFFSETFROM:-0500
TZOFFSETTO:-0400
TZNAME:EDT
DTSTART:20250309T070000
END:DAYLIGHT
BEGIN:STANDARD
TZOFFSETFROM:-0400
TZOFFSETTO:-0500
TZNAME:EST
DTSTART:20251102T060000
END:STANDARD
BEGIN:DAYLIGHT
TZOFFSETFROM:-0500
TZOFFSETTO:-0400
TZNAME:EDT
DTSTART:20260308T070000
END:DAYLIGHT
BEGIN:STANDARD
TZOFFSETFROM:-0400
TZOFFSETTO:-0500
TZNAME:EST
DTSTART:20261101T060000
END:STANDARD
END:VTIMEZONE
BEGIN:VEVENT
DTSTART;TZID=America/New_York:20251001T160000
DTEND;TZID=America/New_York:20251001T171500
DTSTAMP:20260424T192356
CREATED:20250810T190436Z
LAST-MODIFIED:20250901T130201Z
UID:10003543-1759334400-1759338900@amakerscircle.com
SUMMARY:Fall Young Child Art Class\, 6 Week Series: Wednesdays\, 9/24-10/29
DESCRIPTION:[vc_row][vc_column][vc_column_text css=””]During this 6 week art class\, your child will explore a variety of kid friendly art materials including clay\, watercolor and more.   \nWith a focus on the process of creating art\, your child will discover the joy and freedom of art making!  Ages 5-9 welcome.  Dates for class are Wednesday\, 9/24-10/29.   \n  \nCancellation policy: We will refund all tuition for students cancelling more than a week before class starts. After that\, tuition is non-refundable.[/vc_column_text][/vc_column][/vc_row]
URL:https://amakerscircle.com/class-workshop/fall-young-child-art-class-6-week-series-9-24-10-29/2025-10-01/
LOCATION:A Maker’s Circle Studio\, 8 Hacklebarney Road\, Pottersville\, NJ\, 07979\, United States
CATEGORIES:Kids,Susan Palmer,Young
ATTACH;FMTTYPE=image/jpeg:https://amakerscircle.com/wp-content/uploads/IMG_1686-scaled.jpeg
END:VEVENT
BEGIN:VEVENT
DTSTART;TZID=America/New_York:20251002T130000
DTEND;TZID=America/New_York:20251002T140000
DTSTAMP:20260424T192356
CREATED:20250916T174118Z
LAST-MODIFIED:20250917T102740Z
UID:10004178-1759410000-1759413600@amakerscircle.com
SUMMARY:Private Mommy and Me Class
DESCRIPTION:[vc_row][vc_column][vc_column_text css=””]This private class series is for a parent and their young ones.  Spend an hour creating with Vanessa Lopez.  You will explore different ways to create with your child in a supported environment.  Remember to dress for a mess.   One parent and kids\,  ages 3-6\, are welcome.[/vc_column_text][/vc_column][/vc_row]
URL:https://amakerscircle.com/class-workshop/private-mommy-and-me-class/2025-10-02/
LOCATION:A Maker’s Circle Studio\, 8 Hacklebarney Road\, Pottersville\, NJ\, 07979\, United States
CATEGORIES:Kids,Vanessa Lopez
ATTACH;FMTTYPE=image/jpeg:https://amakerscircle.com/wp-content/uploads/AFB95D37-54CB-4C44-9166-0C9513D95A29.jpeg
END:VEVENT
BEGIN:VEVENT
DTSTART;TZID=America/New_York:20251002T160000
DTEND;TZID=America/New_York:20251002T171500
DTSTAMP:20260424T192356
CREATED:20250831T165501Z
LAST-MODIFIED:20250901T130115Z
UID:10003683-1759420800-1759425300@amakerscircle.com
SUMMARY:Fall Young Child Art Class\, 6 Week Series: Thursdays\, 9/25-10/30
DESCRIPTION:[vc_row][vc_column][vc_column_text css=””]During this 6 week art class\, your child will explore a variety of kid friendly art materials including clay\, watercolor and more.   \nWith a focus on the process of creating art\, your child will discover the joy and freedom of art making!  Ages 5-9 welcome.   \nDates for class are Thursdays\, 9/25-10/30.   \n  \nCancellation policy: We will refund all tuition for students cancelling more than a week before class starts. After that\, tuition is non-refundable.[/vc_column_text][/vc_column][/vc_row]
URL:https://amakerscircle.com/class-workshop/fall-young-child-art-class-6-week-series-9-25-10-30/2025-10-02/
LOCATION:A Maker’s Circle Studio\, 8 Hacklebarney Road\, Pottersville\, NJ\, 07979\, United States
CATEGORIES:Kids,Vanessa Lopez,Young
ATTACH;FMTTYPE=image/jpeg:https://amakerscircle.com/wp-content/uploads/image-8.jpeg
END:VEVENT
BEGIN:VEVENT
DTSTART;TZID=America/New_York:20251006T160000
DTEND;TZID=America/New_York:20251006T173000
DTSTAMP:20260424T192356
CREATED:20250805T233519Z
LAST-MODIFIED:20251110T113441Z
UID:10003535-1759766400-1759771800@amakerscircle.com
SUMMARY:Teen/Tween Clay Art Class\, 6 Week Series Starting Monday\, 9/29
DESCRIPTION:[vc_row][vc_column][vc_column_text css=””]During this 6 week art class\, Susan Palmer will help your child explore wheel throwing and hand building with clay.   This class is a deep dive in to all things clay! \nProper technique will be emphasized in this class for maximum success with projects.  Ages 10-15 welcome.  We will skip 10/13 class date as it is Columbus Day.[/vc_column_text][/vc_column][/vc_row]
URL:https://amakerscircle.com/class-workshop/teen-tween-clay-art-class-6-week-series-starting-9-29/2025-10-06/
LOCATION:A Maker’s Circle Studio\, 8 Hacklebarney Road\, Pottersville\, NJ\, 07979\, United States
CATEGORIES:Kids,Pottery,Studio A - Nancy,Susan Palmer,Teen and Tween
ATTACH;FMTTYPE=image/jpeg:https://amakerscircle.com/wp-content/uploads/0984804A-3467-42F5-8462-97D4A541FE6F-1.jpg
END:VEVENT
BEGIN:VEVENT
DTSTART;TZID=America/New_York:20251008T160000
DTEND;TZID=America/New_York:20251008T171500
DTSTAMP:20260424T192356
CREATED:20250810T190436Z
LAST-MODIFIED:20250901T130201Z
UID:10003544-1759939200-1759943700@amakerscircle.com
SUMMARY:Fall Young Child Art Class\, 6 Week Series: Wednesdays\, 9/24-10/29
DESCRIPTION:[vc_row][vc_column][vc_column_text css=””]During this 6 week art class\, your child will explore a variety of kid friendly art materials including clay\, watercolor and more.   \nWith a focus on the process of creating art\, your child will discover the joy and freedom of art making!  Ages 5-9 welcome.  Dates for class are Wednesday\, 9/24-10/29.   \n  \nCancellation policy: We will refund all tuition for students cancelling more than a week before class starts. After that\, tuition is non-refundable.[/vc_column_text][/vc_column][/vc_row]
URL:https://amakerscircle.com/class-workshop/fall-young-child-art-class-6-week-series-9-24-10-29/2025-10-08/
LOCATION:A Maker’s Circle Studio\, 8 Hacklebarney Road\, Pottersville\, NJ\, 07979\, United States
CATEGORIES:Kids,Susan Palmer,Young
ATTACH;FMTTYPE=image/jpeg:https://amakerscircle.com/wp-content/uploads/IMG_1686-scaled.jpeg
END:VEVENT
BEGIN:VEVENT
DTSTART;TZID=America/New_York:20251009T130000
DTEND;TZID=America/New_York:20251009T140000
DTSTAMP:20260424T192356
CREATED:20250916T174118Z
LAST-MODIFIED:20250917T102740Z
UID:10004179-1760014800-1760018400@amakerscircle.com
SUMMARY:Private Mommy and Me Class
DESCRIPTION:[vc_row][vc_column][vc_column_text css=””]This private class series is for a parent and their young ones.  Spend an hour creating with Vanessa Lopez.  You will explore different ways to create with your child in a supported environment.  Remember to dress for a mess.   One parent and kids\,  ages 3-6\, are welcome.[/vc_column_text][/vc_column][/vc_row]
URL:https://amakerscircle.com/class-workshop/private-mommy-and-me-class/2025-10-09/
LOCATION:A Maker’s Circle Studio\, 8 Hacklebarney Road\, Pottersville\, NJ\, 07979\, United States
CATEGORIES:Kids,Vanessa Lopez
ATTACH;FMTTYPE=image/jpeg:https://amakerscircle.com/wp-content/uploads/AFB95D37-54CB-4C44-9166-0C9513D95A29.jpeg
END:VEVENT
BEGIN:VEVENT
DTSTART;TZID=America/New_York:20251009T160000
DTEND;TZID=America/New_York:20251009T171500
DTSTAMP:20260424T192356
CREATED:20250831T165501Z
LAST-MODIFIED:20250901T130115Z
UID:10003684-1760025600-1760030100@amakerscircle.com
SUMMARY:Fall Young Child Art Class\, 6 Week Series: Thursdays\, 9/25-10/30
DESCRIPTION:[vc_row][vc_column][vc_column_text css=””]During this 6 week art class\, your child will explore a variety of kid friendly art materials including clay\, watercolor and more.   \nWith a focus on the process of creating art\, your child will discover the joy and freedom of art making!  Ages 5-9 welcome.   \nDates for class are Thursdays\, 9/25-10/30.   \n  \nCancellation policy: We will refund all tuition for students cancelling more than a week before class starts. After that\, tuition is non-refundable.[/vc_column_text][/vc_column][/vc_row]
URL:https://amakerscircle.com/class-workshop/fall-young-child-art-class-6-week-series-9-25-10-30/2025-10-09/
LOCATION:A Maker’s Circle Studio\, 8 Hacklebarney Road\, Pottersville\, NJ\, 07979\, United States
CATEGORIES:Kids,Vanessa Lopez,Young
ATTACH;FMTTYPE=image/jpeg:https://amakerscircle.com/wp-content/uploads/image-8.jpeg
END:VEVENT
BEGIN:VEVENT
DTSTART;TZID=America/New_York:20251015T160000
DTEND;TZID=America/New_York:20251015T171500
DTSTAMP:20260424T192356
CREATED:20250810T190436Z
LAST-MODIFIED:20250901T130201Z
UID:10003545-1760544000-1760548500@amakerscircle.com
SUMMARY:Fall Young Child Art Class\, 6 Week Series: Wednesdays\, 9/24-10/29
DESCRIPTION:[vc_row][vc_column][vc_column_text css=””]During this 6 week art class\, your child will explore a variety of kid friendly art materials including clay\, watercolor and more.   \nWith a focus on the process of creating art\, your child will discover the joy and freedom of art making!  Ages 5-9 welcome.  Dates for class are Wednesday\, 9/24-10/29.   \n  \nCancellation policy: We will refund all tuition for students cancelling more than a week before class starts. After that\, tuition is non-refundable.[/vc_column_text][/vc_column][/vc_row]
URL:https://amakerscircle.com/class-workshop/fall-young-child-art-class-6-week-series-9-24-10-29/2025-10-15/
LOCATION:A Maker’s Circle Studio\, 8 Hacklebarney Road\, Pottersville\, NJ\, 07979\, United States
CATEGORIES:Kids,Susan Palmer,Young
ATTACH;FMTTYPE=image/jpeg:https://amakerscircle.com/wp-content/uploads/IMG_1686-scaled.jpeg
END:VEVENT
BEGIN:VEVENT
DTSTART;TZID=America/New_York:20251016T130000
DTEND;TZID=America/New_York:20251016T140000
DTSTAMP:20260424T192356
CREATED:20250916T174118Z
LAST-MODIFIED:20250917T102740Z
UID:10004180-1760619600-1760623200@amakerscircle.com
SUMMARY:Private Mommy and Me Class
DESCRIPTION:[vc_row][vc_column][vc_column_text css=””]This private class series is for a parent and their young ones.  Spend an hour creating with Vanessa Lopez.  You will explore different ways to create with your child in a supported environment.  Remember to dress for a mess.   One parent and kids\,  ages 3-6\, are welcome.[/vc_column_text][/vc_column][/vc_row]
URL:https://amakerscircle.com/class-workshop/private-mommy-and-me-class/2025-10-16/
LOCATION:A Maker’s Circle Studio\, 8 Hacklebarney Road\, Pottersville\, NJ\, 07979\, United States
CATEGORIES:Kids,Vanessa Lopez
ATTACH;FMTTYPE=image/jpeg:https://amakerscircle.com/wp-content/uploads/AFB95D37-54CB-4C44-9166-0C9513D95A29.jpeg
END:VEVENT
BEGIN:VEVENT
DTSTART;TZID=America/New_York:20251016T160000
DTEND;TZID=America/New_York:20251016T171500
DTSTAMP:20260424T192356
CREATED:20250831T165501Z
LAST-MODIFIED:20250901T130115Z
UID:10003685-1760630400-1760634900@amakerscircle.com
SUMMARY:Fall Young Child Art Class\, 6 Week Series: Thursdays\, 9/25-10/30
DESCRIPTION:[vc_row][vc_column][vc_column_text css=””]During this 6 week art class\, your child will explore a variety of kid friendly art materials including clay\, watercolor and more.   \nWith a focus on the process of creating art\, your child will discover the joy and freedom of art making!  Ages 5-9 welcome.   \nDates for class are Thursdays\, 9/25-10/30.   \n  \nCancellation policy: We will refund all tuition for students cancelling more than a week before class starts. After that\, tuition is non-refundable.[/vc_column_text][/vc_column][/vc_row]
URL:https://amakerscircle.com/class-workshop/fall-young-child-art-class-6-week-series-9-25-10-30/2025-10-16/
LOCATION:A Maker’s Circle Studio\, 8 Hacklebarney Road\, Pottersville\, NJ\, 07979\, United States
CATEGORIES:Kids,Vanessa Lopez,Young
ATTACH;FMTTYPE=image/jpeg:https://amakerscircle.com/wp-content/uploads/image-8.jpeg
END:VEVENT
BEGIN:VEVENT
DTSTART;TZID=America/New_York:20251020T160000
DTEND;TZID=America/New_York:20251020T173000
DTSTAMP:20260424T192356
CREATED:20250805T233519Z
LAST-MODIFIED:20251110T113441Z
UID:10003536-1760976000-1760981400@amakerscircle.com
SUMMARY:Teen/Tween Clay Art Class\, 6 Week Series Starting Monday\, 9/29
DESCRIPTION:[vc_row][vc_column][vc_column_text css=””]During this 6 week art class\, Susan Palmer will help your child explore wheel throwing and hand building with clay.   This class is a deep dive in to all things clay! \nProper technique will be emphasized in this class for maximum success with projects.  Ages 10-15 welcome.  We will skip 10/13 class date as it is Columbus Day.[/vc_column_text][/vc_column][/vc_row]
URL:https://amakerscircle.com/class-workshop/teen-tween-clay-art-class-6-week-series-starting-9-29/2025-10-20/
LOCATION:A Maker’s Circle Studio\, 8 Hacklebarney Road\, Pottersville\, NJ\, 07979\, United States
CATEGORIES:Kids,Pottery,Studio A - Nancy,Susan Palmer,Teen and Tween
ATTACH;FMTTYPE=image/jpeg:https://amakerscircle.com/wp-content/uploads/0984804A-3467-42F5-8462-97D4A541FE6F-1.jpg
END:VEVENT
BEGIN:VEVENT
DTSTART;TZID=America/New_York:20251022T160000
DTEND;TZID=America/New_York:20251022T171500
DTSTAMP:20260424T192356
CREATED:20250810T190436Z
LAST-MODIFIED:20250901T130201Z
UID:10003546-1761148800-1761153300@amakerscircle.com
SUMMARY:Fall Young Child Art Class\, 6 Week Series: Wednesdays\, 9/24-10/29
DESCRIPTION:[vc_row][vc_column][vc_column_text css=””]During this 6 week art class\, your child will explore a variety of kid friendly art materials including clay\, watercolor and more.   \nWith a focus on the process of creating art\, your child will discover the joy and freedom of art making!  Ages 5-9 welcome.  Dates for class are Wednesday\, 9/24-10/29.   \n  \nCancellation policy: We will refund all tuition for students cancelling more than a week before class starts. After that\, tuition is non-refundable.[/vc_column_text][/vc_column][/vc_row]
URL:https://amakerscircle.com/class-workshop/fall-young-child-art-class-6-week-series-9-24-10-29/2025-10-22/
LOCATION:A Maker’s Circle Studio\, 8 Hacklebarney Road\, Pottersville\, NJ\, 07979\, United States
CATEGORIES:Kids,Susan Palmer,Young
ATTACH;FMTTYPE=image/jpeg:https://amakerscircle.com/wp-content/uploads/IMG_1686-scaled.jpeg
END:VEVENT
BEGIN:VEVENT
DTSTART;TZID=America/New_York:20251023T130000
DTEND;TZID=America/New_York:20251023T140000
DTSTAMP:20260424T192356
CREATED:20250916T174118Z
LAST-MODIFIED:20250917T102740Z
UID:10004181-1761224400-1761228000@amakerscircle.com
SUMMARY:Private Mommy and Me Class
DESCRIPTION:[vc_row][vc_column][vc_column_text css=””]This private class series is for a parent and their young ones.  Spend an hour creating with Vanessa Lopez.  You will explore different ways to create with your child in a supported environment.  Remember to dress for a mess.   One parent and kids\,  ages 3-6\, are welcome.[/vc_column_text][/vc_column][/vc_row]
URL:https://amakerscircle.com/class-workshop/private-mommy-and-me-class/2025-10-23/
LOCATION:A Maker’s Circle Studio\, 8 Hacklebarney Road\, Pottersville\, NJ\, 07979\, United States
CATEGORIES:Kids,Vanessa Lopez
ATTACH;FMTTYPE=image/jpeg:https://amakerscircle.com/wp-content/uploads/AFB95D37-54CB-4C44-9166-0C9513D95A29.jpeg
END:VEVENT
BEGIN:VEVENT
DTSTART;TZID=America/New_York:20251023T160000
DTEND;TZID=America/New_York:20251023T171500
DTSTAMP:20260424T192356
CREATED:20250831T165501Z
LAST-MODIFIED:20250901T130115Z
UID:10003686-1761235200-1761239700@amakerscircle.com
SUMMARY:Fall Young Child Art Class\, 6 Week Series: Thursdays\, 9/25-10/30
DESCRIPTION:[vc_row][vc_column][vc_column_text css=””]During this 6 week art class\, your child will explore a variety of kid friendly art materials including clay\, watercolor and more.   \nWith a focus on the process of creating art\, your child will discover the joy and freedom of art making!  Ages 5-9 welcome.   \nDates for class are Thursdays\, 9/25-10/30.   \n  \nCancellation policy: We will refund all tuition for students cancelling more than a week before class starts. After that\, tuition is non-refundable.[/vc_column_text][/vc_column][/vc_row]
URL:https://amakerscircle.com/class-workshop/fall-young-child-art-class-6-week-series-9-25-10-30/2025-10-23/
LOCATION:A Maker’s Circle Studio\, 8 Hacklebarney Road\, Pottersville\, NJ\, 07979\, United States
CATEGORIES:Kids,Vanessa Lopez,Young
ATTACH;FMTTYPE=image/jpeg:https://amakerscircle.com/wp-content/uploads/image-8.jpeg
END:VEVENT
BEGIN:VEVENT
DTSTART;TZID=America/New_York:20251025T150000
DTEND;TZID=America/New_York:20251025T170000
DTSTAMP:20260424T192356
CREATED:20250909T103506Z
LAST-MODIFIED:20250909T105002Z
UID:10004143-1761404400-1761411600@amakerscircle.com
SUMMARY:Make a 3D Haunted House with Vanessa Lopez
DESCRIPTION:[vc_row][vc_column][vc_column_text css=””]Get creative this spooky season!  Join me as we transform a wooden structure into a haunted house using paint\, wood\, air dry clay\, and more! \nKids will have a blast designing creepy creatures\, eerie windows and doors\, and other ghostly details to bring their haunted house to life.  Ages 6-11 welcome.[/vc_column_text][/vc_column][/vc_row]
URL:https://amakerscircle.com/class-workshop/make-a-3d-haunted-house-with-vanessa-lopez/
LOCATION:A Maker’s Circle Studio\, 8 Hacklebarney Road\, Pottersville\, NJ\, 07979\, United States
CATEGORIES:Kids,Vanessa Lopez,Young
ATTACH;FMTTYPE=image/jpeg:https://amakerscircle.com/wp-content/uploads/Screenshot-2025-09-09-at-6.48.06-AM.jpeg
ORGANIZER;CN="a maker's circle":MAILTO:amakerscircle@gmail.com
END:VEVENT
BEGIN:VEVENT
DTSTART;TZID=America/New_York:20251027T160000
DTEND;TZID=America/New_York:20251027T173000
DTSTAMP:20260424T192356
CREATED:20250805T233519Z
LAST-MODIFIED:20251110T113441Z
UID:10003537-1761580800-1761586200@amakerscircle.com
SUMMARY:Teen/Tween Clay Art Class\, 6 Week Series Starting Monday\, 9/29
DESCRIPTION:[vc_row][vc_column][vc_column_text css=””]During this 6 week art class\, Susan Palmer will help your child explore wheel throwing and hand building with clay.   This class is a deep dive in to all things clay! \nProper technique will be emphasized in this class for maximum success with projects.  Ages 10-15 welcome.  We will skip 10/13 class date as it is Columbus Day.[/vc_column_text][/vc_column][/vc_row]
URL:https://amakerscircle.com/class-workshop/teen-tween-clay-art-class-6-week-series-starting-9-29/2025-10-27/
LOCATION:A Maker’s Circle Studio\, 8 Hacklebarney Road\, Pottersville\, NJ\, 07979\, United States
CATEGORIES:Kids,Pottery,Studio A - Nancy,Susan Palmer,Teen and Tween
ATTACH;FMTTYPE=image/jpeg:https://amakerscircle.com/wp-content/uploads/0984804A-3467-42F5-8462-97D4A541FE6F-1.jpg
END:VEVENT
BEGIN:VEVENT
DTSTART;TZID=America/New_York:20251029T160000
DTEND;TZID=America/New_York:20251029T171500
DTSTAMP:20260424T192356
CREATED:20250810T190436Z
LAST-MODIFIED:20250901T130201Z
UID:10003547-1761753600-1761758100@amakerscircle.com
SUMMARY:Fall Young Child Art Class\, 6 Week Series: Wednesdays\, 9/24-10/29
DESCRIPTION:[vc_row][vc_column][vc_column_text css=””]During this 6 week art class\, your child will explore a variety of kid friendly art materials including clay\, watercolor and more.   \nWith a focus on the process of creating art\, your child will discover the joy and freedom of art making!  Ages 5-9 welcome.  Dates for class are Wednesday\, 9/24-10/29.   \n  \nCancellation policy: We will refund all tuition for students cancelling more than a week before class starts. After that\, tuition is non-refundable.[/vc_column_text][/vc_column][/vc_row]
URL:https://amakerscircle.com/class-workshop/fall-young-child-art-class-6-week-series-9-24-10-29/2025-10-29/
LOCATION:A Maker’s Circle Studio\, 8 Hacklebarney Road\, Pottersville\, NJ\, 07979\, United States
CATEGORIES:Kids,Susan Palmer,Young
ATTACH;FMTTYPE=image/jpeg:https://amakerscircle.com/wp-content/uploads/IMG_1686-scaled.jpeg
END:VEVENT
BEGIN:VEVENT
DTSTART;TZID=America/New_York:20251030T130000
DTEND;TZID=America/New_York:20251030T140000
DTSTAMP:20260424T192356
CREATED:20250916T174118Z
LAST-MODIFIED:20250917T102740Z
UID:10004182-1761829200-1761832800@amakerscircle.com
SUMMARY:Private Mommy and Me Class
DESCRIPTION:[vc_row][vc_column][vc_column_text css=””]This private class series is for a parent and their young ones.  Spend an hour creating with Vanessa Lopez.  You will explore different ways to create with your child in a supported environment.  Remember to dress for a mess.   One parent and kids\,  ages 3-6\, are welcome.[/vc_column_text][/vc_column][/vc_row]
URL:https://amakerscircle.com/class-workshop/private-mommy-and-me-class/2025-10-30/
LOCATION:A Maker’s Circle Studio\, 8 Hacklebarney Road\, Pottersville\, NJ\, 07979\, United States
CATEGORIES:Kids,Vanessa Lopez
ATTACH;FMTTYPE=image/jpeg:https://amakerscircle.com/wp-content/uploads/AFB95D37-54CB-4C44-9166-0C9513D95A29.jpeg
END:VEVENT
BEGIN:VEVENT
DTSTART;TZID=America/New_York:20251030T160000
DTEND;TZID=America/New_York:20251030T171500
DTSTAMP:20260424T192356
CREATED:20250831T165501Z
LAST-MODIFIED:20250901T130115Z
UID:10003687-1761840000-1761844500@amakerscircle.com
SUMMARY:Fall Young Child Art Class\, 6 Week Series: Thursdays\, 9/25-10/30
DESCRIPTION:[vc_row][vc_column][vc_column_text css=””]During this 6 week art class\, your child will explore a variety of kid friendly art materials including clay\, watercolor and more.   \nWith a focus on the process of creating art\, your child will discover the joy and freedom of art making!  Ages 5-9 welcome.   \nDates for class are Thursdays\, 9/25-10/30.   \n  \nCancellation policy: We will refund all tuition for students cancelling more than a week before class starts. After that\, tuition is non-refundable.[/vc_column_text][/vc_column][/vc_row]
URL:https://amakerscircle.com/class-workshop/fall-young-child-art-class-6-week-series-9-25-10-30/2025-10-30/
LOCATION:A Maker’s Circle Studio\, 8 Hacklebarney Road\, Pottersville\, NJ\, 07979\, United States
CATEGORIES:Kids,Vanessa Lopez,Young
ATTACH;FMTTYPE=image/jpeg:https://amakerscircle.com/wp-content/uploads/image-8.jpeg
END:VEVENT
END:VCALENDAR