BEGIN:VCALENDAR
VERSION:2.0
PRODID:-//a maker&#039;s circle - ECPv6.15.20//NONSGML v1.0//EN
CALSCALE:GREGORIAN
METHOD:PUBLISH
X-WR-CALNAME:a maker&#039;s circle
X-ORIGINAL-URL:https://amakerscircle.com
X-WR-CALDESC:Events for a maker&#039;s circle
REFRESH-INTERVAL;VALUE=DURATION:PT1H
X-Robots-Tag:noindex
X-PUBLISHED-TTL:PT1H
BEGIN:VTIMEZONE
TZID:America/New_York
BEGIN:DAYLIGHT
TZOFFSETFROM:-0500
TZOFFSETTO:-0400
TZNAME:EDT
DTSTART:20250309T070000
END:DAYLIGHT
BEGIN:STANDARD
TZOFFSETFROM:-0400
TZOFFSETTO:-0500
TZNAME:EST
DTSTART:20251102T060000
END:STANDARD
BEGIN:DAYLIGHT
TZOFFSETFROM:-0500
TZOFFSETTO:-0400
TZNAME:EDT
DTSTART:20260308T070000
END:DAYLIGHT
BEGIN:STANDARD
TZOFFSETFROM:-0400
TZOFFSETTO:-0500
TZNAME:EST
DTSTART:20261101T060000
END:STANDARD
BEGIN:DAYLIGHT
TZOFFSETFROM:-0500
TZOFFSETTO:-0400
TZNAME:EDT
DTSTART:20270314T070000
END:DAYLIGHT
BEGIN:STANDARD
TZOFFSETFROM:-0400
TZOFFSETTO:-0500
TZNAME:EST
DTSTART:20271107T060000
END:STANDARD
END:VTIMEZONE
BEGIN:VEVENT
DTSTART;TZID=America/New_York:20260423T110000
DTEND;TZID=America/New_York:20260423T130000
DTSTAMP:20260423T093630
CREATED:20260203T201616Z
LAST-MODIFIED:20260215T001408Z
UID:10007574-1776942000-1776949200@amakerscircle.com
SUMMARY:Intermediate/Advanced Watercolor Series with Jackie Pankuck – Spring 2026 (Thursdays) SOLD OUT
DESCRIPTION:Thursdays…MARCH 12 – APRIL 30 (8 weeks) This series is designed for students who have experience with watercolor\, who feel comfortable with the medium and who want to improve their exposure to more advanced skills and subject matter. \nStudents in this class will attempt more complicated photo references\, discuss different ways to approach them and each student will work to create their own version of subject. \nAll materials will be provided\, \n  \nCancellation Policy: \nAny student canceling more than 1 week before the start of class will be refunded. Please note\, however\, that we incur a small transaction fee for all online signups. That  amount will be subtracted from your refund. \nFor students wanting to cancel within 1 week of a class\, please be aware that your tuition is non refundable. You can pass your spot on to a friend however\, Just let us know in advance.
URL:https://amakerscircle.com/class-workshop/intermediate-advanced-watercolor-series-with-jackie-pankuck-spring-2026/2026-04-23/
LOCATION:A Maker’s Circle Studio\, 8 Hacklebarney Road\, Pottersville\, NJ\, 07979\, United States
CATEGORIES:Adult,Jackie Pankuck,Painting,Studio C - Sharon
ATTACH;FMTTYPE=image/png:https://amakerscircle.com/wp-content/uploads/Screenshot-2025-10-11-at-5.00.23-PM.png
ORGANIZER;CN="a maker's circle":MAILTO:amakerscircle@gmail.com
END:VEVENT
END:VCALENDAR