BEGIN:VCALENDAR
VERSION:2.0
PRODID:-//a maker&#039;s circle - ECPv6.15.20//NONSGML v1.0//EN
CALSCALE:GREGORIAN
METHOD:PUBLISH
X-WR-CALNAME:a maker&#039;s circle
X-ORIGINAL-URL:https://amakerscircle.com
X-WR-CALDESC:Events for a maker&#039;s circle
REFRESH-INTERVAL;VALUE=DURATION:PT1H
X-Robots-Tag:noindex
X-PUBLISHED-TTL:PT1H
BEGIN:VTIMEZONE
TZID:America/New_York
BEGIN:DAYLIGHT
TZOFFSETFROM:-0500
TZOFFSETTO:-0400
TZNAME:EDT
DTSTART:20250309T070000
END:DAYLIGHT
BEGIN:STANDARD
TZOFFSETFROM:-0400
TZOFFSETTO:-0500
TZNAME:EST
DTSTART:20251102T060000
END:STANDARD
BEGIN:DAYLIGHT
TZOFFSETFROM:-0500
TZOFFSETTO:-0400
TZNAME:EDT
DTSTART:20260308T070000
END:DAYLIGHT
BEGIN:STANDARD
TZOFFSETFROM:-0400
TZOFFSETTO:-0500
TZNAME:EST
DTSTART:20261101T060000
END:STANDARD
BEGIN:DAYLIGHT
TZOFFSETFROM:-0500
TZOFFSETTO:-0400
TZNAME:EDT
DTSTART:20270314T070000
END:DAYLIGHT
BEGIN:STANDARD
TZOFFSETFROM:-0400
TZOFFSETTO:-0500
TZNAME:EST
DTSTART:20271107T060000
END:STANDARD
END:VTIMEZONE
BEGIN:VEVENT
DTSTART;TZID=America/New_York:20261201T100000
DTEND;TZID=America/New_York:20261201T120000
DTSTAMP:20260422T091058
CREATED:20260323T211127Z
LAST-MODIFIED:20260415T123315Z
UID:10009890-1796119200-1796126400@amakerscircle.com
SUMMARY:Fundamentals in Watercolor with Jackie Pankuck: 6 wks\, Tuesdays\, May/June
DESCRIPTION:[vc_row][vc_column][vc_column_text css=””]. \nTuesdays\, 6 wks\, 5/12-6/23 (skip 6/2) \nLearning and mastering the fundamentals is critical whether you are new to watercolor or already painting.  There are critical skills that every painter needs to maker their work more fresher and more sophisticated. This series will cover skills needed by the watercolor artist to manage the paint better so you can enjoy your painting time. \nThis 6 week look at fundamentals includes: \n\nPigment strength – when\, where and how is a critically important in watercolor. Without this knowledge your paintings will look anemic and flat.\nColor Mixing – how to get the color you want\, fast.\nEdges – edge control is all about timing and pigment strength. Without this skill you paintings will be either washed out or too chaotic.\nDeconstructing a scene for the best watercolor outcome. You have to learn how to “see” and scene\, deconstruct the layers and form a strategy for executing it.\n\n \nCancelation: Studios cancelling more than 1 week ahead of the series start\, will receive a full refund. After that\, tuition is non refundable. \n[/vc_column_text][/vc_column][/vc_row]
URL:https://amakerscircle.com/class-workshop/fundamentals-in-watercolor-with-jackie-pankuck-8-wks-5-12-6-23/2026-12-01/
LOCATION:A Maker’s Circle Studio\, 8 Hacklebarney Road\, Pottersville\, NJ\, 07979\, United States
CATEGORIES:Adult,Jackie Pankuck,Painting,Studio C - Sharon
ATTACH;FMTTYPE=image/jpeg:https://amakerscircle.com/wp-content/uploads/C3AFC224-32CD-4F86-8D95-8363588DFB46-scaled.jpeg
END:VEVENT
BEGIN:VEVENT
DTSTART;TZID=America/New_York:20261202T110000
DTEND;TZID=America/New_York:20261202T130000
DTSTAMP:20260422T091058
CREATED:20260405T032237Z
LAST-MODIFIED:20260415T114127Z
UID:10010411-1796209200-1796216400@amakerscircle.com
SUMMARY:Beginner/Intermediate Watercolor Series with Jackie Pankuck - Wednesdays\, May/June
DESCRIPTION:This 6 week beginner to intermediate watercolor series is the perfect series for the person who has not used watercolor OR  does not feel comfortable with the medium yet. During this series\, Jackie will focus on important skills to increase your comfort level through exercises and painting less complex scenes. You will be led step by step through the process in order to train you to create a system that will help you paint with more confidence. \nClasses are on Wednesdays from May 13\, 20\, June 3\, 10\, 17\, 24 (skip May 27) \nThe pace of this class will allow for personal attention and group discussion which will help everyone’s learning excel. \nAll materials will be provided.
URL:https://amakerscircle.com/class-workshop/29513/2026-12-02/
LOCATION:A Maker’s Circle Studio\, 8 Hacklebarney Road\, Pottersville\, NJ\, 07979\, United States
CATEGORIES:Adult,Jackie Pankuck,Painting,Studio C - Sharon
ATTACH;FMTTYPE=image/jpeg:https://amakerscircle.com/wp-content/uploads/2F306ECF-4B95-4292-8EC5-889F67EB449C_1_201_a-scaled.jpeg
END:VEVENT
BEGIN:VEVENT
DTSTART;TZID=America/New_York:20261208T100000
DTEND;TZID=America/New_York:20261208T120000
DTSTAMP:20260422T091058
CREATED:20260323T211127Z
LAST-MODIFIED:20260415T123315Z
UID:10009891-1796724000-1796731200@amakerscircle.com
SUMMARY:Fundamentals in Watercolor with Jackie Pankuck: 6 wks\, Tuesdays\, May/June
DESCRIPTION:[vc_row][vc_column][vc_column_text css=””]. \nTuesdays\, 6 wks\, 5/12-6/23 (skip 6/2) \nLearning and mastering the fundamentals is critical whether you are new to watercolor or already painting.  There are critical skills that every painter needs to maker their work more fresher and more sophisticated. This series will cover skills needed by the watercolor artist to manage the paint better so you can enjoy your painting time. \nThis 6 week look at fundamentals includes: \n\nPigment strength – when\, where and how is a critically important in watercolor. Without this knowledge your paintings will look anemic and flat.\nColor Mixing – how to get the color you want\, fast.\nEdges – edge control is all about timing and pigment strength. Without this skill you paintings will be either washed out or too chaotic.\nDeconstructing a scene for the best watercolor outcome. You have to learn how to “see” and scene\, deconstruct the layers and form a strategy for executing it.\n\n \nCancelation: Studios cancelling more than 1 week ahead of the series start\, will receive a full refund. After that\, tuition is non refundable. \n[/vc_column_text][/vc_column][/vc_row]
URL:https://amakerscircle.com/class-workshop/fundamentals-in-watercolor-with-jackie-pankuck-8-wks-5-12-6-23/2026-12-08/
LOCATION:A Maker’s Circle Studio\, 8 Hacklebarney Road\, Pottersville\, NJ\, 07979\, United States
CATEGORIES:Adult,Jackie Pankuck,Painting,Studio C - Sharon
ATTACH;FMTTYPE=image/jpeg:https://amakerscircle.com/wp-content/uploads/C3AFC224-32CD-4F86-8D95-8363588DFB46-scaled.jpeg
END:VEVENT
BEGIN:VEVENT
DTSTART;TZID=America/New_York:20261209T110000
DTEND;TZID=America/New_York:20261209T130000
DTSTAMP:20260422T091058
CREATED:20260405T032237Z
LAST-MODIFIED:20260415T114127Z
UID:10010412-1796814000-1796821200@amakerscircle.com
SUMMARY:Beginner/Intermediate Watercolor Series with Jackie Pankuck - Wednesdays\, May/June
DESCRIPTION:This 6 week beginner to intermediate watercolor series is the perfect series for the person who has not used watercolor OR  does not feel comfortable with the medium yet. During this series\, Jackie will focus on important skills to increase your comfort level through exercises and painting less complex scenes. You will be led step by step through the process in order to train you to create a system that will help you paint with more confidence. \nClasses are on Wednesdays from May 13\, 20\, June 3\, 10\, 17\, 24 (skip May 27) \nThe pace of this class will allow for personal attention and group discussion which will help everyone’s learning excel. \nAll materials will be provided.
URL:https://amakerscircle.com/class-workshop/29513/2026-12-09/
LOCATION:A Maker’s Circle Studio\, 8 Hacklebarney Road\, Pottersville\, NJ\, 07979\, United States
CATEGORIES:Adult,Jackie Pankuck,Painting,Studio C - Sharon
ATTACH;FMTTYPE=image/jpeg:https://amakerscircle.com/wp-content/uploads/2F306ECF-4B95-4292-8EC5-889F67EB449C_1_201_a-scaled.jpeg
END:VEVENT
BEGIN:VEVENT
DTSTART;TZID=America/New_York:20261215T100000
DTEND;TZID=America/New_York:20261215T120000
DTSTAMP:20260422T091058
CREATED:20260323T211127Z
LAST-MODIFIED:20260415T123315Z
UID:10009892-1797328800-1797336000@amakerscircle.com
SUMMARY:Fundamentals in Watercolor with Jackie Pankuck: 6 wks\, Tuesdays\, May/June
DESCRIPTION:[vc_row][vc_column][vc_column_text css=””]. \nTuesdays\, 6 wks\, 5/12-6/23 (skip 6/2) \nLearning and mastering the fundamentals is critical whether you are new to watercolor or already painting.  There are critical skills that every painter needs to maker their work more fresher and more sophisticated. This series will cover skills needed by the watercolor artist to manage the paint better so you can enjoy your painting time. \nThis 6 week look at fundamentals includes: \n\nPigment strength – when\, where and how is a critically important in watercolor. Without this knowledge your paintings will look anemic and flat.\nColor Mixing – how to get the color you want\, fast.\nEdges – edge control is all about timing and pigment strength. Without this skill you paintings will be either washed out or too chaotic.\nDeconstructing a scene for the best watercolor outcome. You have to learn how to “see” and scene\, deconstruct the layers and form a strategy for executing it.\n\n \nCancelation: Studios cancelling more than 1 week ahead of the series start\, will receive a full refund. After that\, tuition is non refundable. \n[/vc_column_text][/vc_column][/vc_row]
URL:https://amakerscircle.com/class-workshop/fundamentals-in-watercolor-with-jackie-pankuck-8-wks-5-12-6-23/2026-12-15/
LOCATION:A Maker’s Circle Studio\, 8 Hacklebarney Road\, Pottersville\, NJ\, 07979\, United States
CATEGORIES:Adult,Jackie Pankuck,Painting,Studio C - Sharon
ATTACH;FMTTYPE=image/jpeg:https://amakerscircle.com/wp-content/uploads/C3AFC224-32CD-4F86-8D95-8363588DFB46-scaled.jpeg
END:VEVENT
BEGIN:VEVENT
DTSTART;TZID=America/New_York:20261216T110000
DTEND;TZID=America/New_York:20261216T130000
DTSTAMP:20260422T091058
CREATED:20260405T032237Z
LAST-MODIFIED:20260415T114127Z
UID:10010413-1797418800-1797426000@amakerscircle.com
SUMMARY:Beginner/Intermediate Watercolor Series with Jackie Pankuck - Wednesdays\, May/June
DESCRIPTION:This 6 week beginner to intermediate watercolor series is the perfect series for the person who has not used watercolor OR  does not feel comfortable with the medium yet. During this series\, Jackie will focus on important skills to increase your comfort level through exercises and painting less complex scenes. You will be led step by step through the process in order to train you to create a system that will help you paint with more confidence. \nClasses are on Wednesdays from May 13\, 20\, June 3\, 10\, 17\, 24 (skip May 27) \nThe pace of this class will allow for personal attention and group discussion which will help everyone’s learning excel. \nAll materials will be provided.
URL:https://amakerscircle.com/class-workshop/29513/2026-12-16/
LOCATION:A Maker’s Circle Studio\, 8 Hacklebarney Road\, Pottersville\, NJ\, 07979\, United States
CATEGORIES:Adult,Jackie Pankuck,Painting,Studio C - Sharon
ATTACH;FMTTYPE=image/jpeg:https://amakerscircle.com/wp-content/uploads/2F306ECF-4B95-4292-8EC5-889F67EB449C_1_201_a-scaled.jpeg
END:VEVENT
BEGIN:VEVENT
DTSTART;TZID=America/New_York:20261222T100000
DTEND;TZID=America/New_York:20261222T120000
DTSTAMP:20260422T091058
CREATED:20260323T211127Z
LAST-MODIFIED:20260415T123315Z
UID:10009893-1797933600-1797940800@amakerscircle.com
SUMMARY:Fundamentals in Watercolor with Jackie Pankuck: 6 wks\, Tuesdays\, May/June
DESCRIPTION:[vc_row][vc_column][vc_column_text css=””]. \nTuesdays\, 6 wks\, 5/12-6/23 (skip 6/2) \nLearning and mastering the fundamentals is critical whether you are new to watercolor or already painting.  There are critical skills that every painter needs to maker their work more fresher and more sophisticated. This series will cover skills needed by the watercolor artist to manage the paint better so you can enjoy your painting time. \nThis 6 week look at fundamentals includes: \n\nPigment strength – when\, where and how is a critically important in watercolor. Without this knowledge your paintings will look anemic and flat.\nColor Mixing – how to get the color you want\, fast.\nEdges – edge control is all about timing and pigment strength. Without this skill you paintings will be either washed out or too chaotic.\nDeconstructing a scene for the best watercolor outcome. You have to learn how to “see” and scene\, deconstruct the layers and form a strategy for executing it.\n\n \nCancelation: Studios cancelling more than 1 week ahead of the series start\, will receive a full refund. After that\, tuition is non refundable. \n[/vc_column_text][/vc_column][/vc_row]
URL:https://amakerscircle.com/class-workshop/fundamentals-in-watercolor-with-jackie-pankuck-8-wks-5-12-6-23/2026-12-22/
LOCATION:A Maker’s Circle Studio\, 8 Hacklebarney Road\, Pottersville\, NJ\, 07979\, United States
CATEGORIES:Adult,Jackie Pankuck,Painting,Studio C - Sharon
ATTACH;FMTTYPE=image/jpeg:https://amakerscircle.com/wp-content/uploads/C3AFC224-32CD-4F86-8D95-8363588DFB46-scaled.jpeg
END:VEVENT
BEGIN:VEVENT
DTSTART;TZID=America/New_York:20261223T110000
DTEND;TZID=America/New_York:20261223T130000
DTSTAMP:20260422T091058
CREATED:20260405T032237Z
LAST-MODIFIED:20260415T114127Z
UID:10010414-1798023600-1798030800@amakerscircle.com
SUMMARY:Beginner/Intermediate Watercolor Series with Jackie Pankuck - Wednesdays\, May/June
DESCRIPTION:This 6 week beginner to intermediate watercolor series is the perfect series for the person who has not used watercolor OR  does not feel comfortable with the medium yet. During this series\, Jackie will focus on important skills to increase your comfort level through exercises and painting less complex scenes. You will be led step by step through the process in order to train you to create a system that will help you paint with more confidence. \nClasses are on Wednesdays from May 13\, 20\, June 3\, 10\, 17\, 24 (skip May 27) \nThe pace of this class will allow for personal attention and group discussion which will help everyone’s learning excel. \nAll materials will be provided.
URL:https://amakerscircle.com/class-workshop/29513/2026-12-23/
LOCATION:A Maker’s Circle Studio\, 8 Hacklebarney Road\, Pottersville\, NJ\, 07979\, United States
CATEGORIES:Adult,Jackie Pankuck,Painting,Studio C - Sharon
ATTACH;FMTTYPE=image/jpeg:https://amakerscircle.com/wp-content/uploads/2F306ECF-4B95-4292-8EC5-889F67EB449C_1_201_a-scaled.jpeg
END:VEVENT
BEGIN:VEVENT
DTSTART;TZID=America/New_York:20261229T100000
DTEND;TZID=America/New_York:20261229T120000
DTSTAMP:20260422T091058
CREATED:20260323T211127Z
LAST-MODIFIED:20260415T123315Z
UID:10009894-1798538400-1798545600@amakerscircle.com
SUMMARY:Fundamentals in Watercolor with Jackie Pankuck: 6 wks\, Tuesdays\, May/June
DESCRIPTION:[vc_row][vc_column][vc_column_text css=””]. \nTuesdays\, 6 wks\, 5/12-6/23 (skip 6/2) \nLearning and mastering the fundamentals is critical whether you are new to watercolor or already painting.  There are critical skills that every painter needs to maker their work more fresher and more sophisticated. This series will cover skills needed by the watercolor artist to manage the paint better so you can enjoy your painting time. \nThis 6 week look at fundamentals includes: \n\nPigment strength – when\, where and how is a critically important in watercolor. Without this knowledge your paintings will look anemic and flat.\nColor Mixing – how to get the color you want\, fast.\nEdges – edge control is all about timing and pigment strength. Without this skill you paintings will be either washed out or too chaotic.\nDeconstructing a scene for the best watercolor outcome. You have to learn how to “see” and scene\, deconstruct the layers and form a strategy for executing it.\n\n \nCancelation: Studios cancelling more than 1 week ahead of the series start\, will receive a full refund. After that\, tuition is non refundable. \n[/vc_column_text][/vc_column][/vc_row]
URL:https://amakerscircle.com/class-workshop/fundamentals-in-watercolor-with-jackie-pankuck-8-wks-5-12-6-23/2026-12-29/
LOCATION:A Maker’s Circle Studio\, 8 Hacklebarney Road\, Pottersville\, NJ\, 07979\, United States
CATEGORIES:Adult,Jackie Pankuck,Painting,Studio C - Sharon
ATTACH;FMTTYPE=image/jpeg:https://amakerscircle.com/wp-content/uploads/C3AFC224-32CD-4F86-8D95-8363588DFB46-scaled.jpeg
END:VEVENT
BEGIN:VEVENT
DTSTART;TZID=America/New_York:20261230T110000
DTEND;TZID=America/New_York:20261230T130000
DTSTAMP:20260422T091058
CREATED:20260405T032237Z
LAST-MODIFIED:20260415T114127Z
UID:10010415-1798628400-1798635600@amakerscircle.com
SUMMARY:Beginner/Intermediate Watercolor Series with Jackie Pankuck - Wednesdays\, May/June
DESCRIPTION:This 6 week beginner to intermediate watercolor series is the perfect series for the person who has not used watercolor OR  does not feel comfortable with the medium yet. During this series\, Jackie will focus on important skills to increase your comfort level through exercises and painting less complex scenes. You will be led step by step through the process in order to train you to create a system that will help you paint with more confidence. \nClasses are on Wednesdays from May 13\, 20\, June 3\, 10\, 17\, 24 (skip May 27) \nThe pace of this class will allow for personal attention and group discussion which will help everyone’s learning excel. \nAll materials will be provided.
URL:https://amakerscircle.com/class-workshop/29513/2026-12-30/
LOCATION:A Maker’s Circle Studio\, 8 Hacklebarney Road\, Pottersville\, NJ\, 07979\, United States
CATEGORIES:Adult,Jackie Pankuck,Painting,Studio C - Sharon
ATTACH;FMTTYPE=image/jpeg:https://amakerscircle.com/wp-content/uploads/2F306ECF-4B95-4292-8EC5-889F67EB449C_1_201_a-scaled.jpeg
END:VEVENT
END:VCALENDAR