BEGIN:VCALENDAR
VERSION:2.0
PRODID:-//a maker&#039;s circle - ECPv6.15.20//NONSGML v1.0//EN
CALSCALE:GREGORIAN
METHOD:PUBLISH
X-ORIGINAL-URL:https://amakerscircle.com
X-WR-CALDESC:Events for a maker&#039;s circle
REFRESH-INTERVAL;VALUE=DURATION:PT1H
X-Robots-Tag:noindex
X-PUBLISHED-TTL:PT1H
BEGIN:VTIMEZONE
TZID:America/New_York
BEGIN:DAYLIGHT
TZOFFSETFROM:-0500
TZOFFSETTO:-0400
TZNAME:EDT
DTSTART:20240310T070000
END:DAYLIGHT
BEGIN:STANDARD
TZOFFSETFROM:-0400
TZOFFSETTO:-0500
TZNAME:EST
DTSTART:20241103T060000
END:STANDARD
BEGIN:DAYLIGHT
TZOFFSETFROM:-0500
TZOFFSETTO:-0400
TZNAME:EDT
DTSTART:20250309T070000
END:DAYLIGHT
BEGIN:STANDARD
TZOFFSETFROM:-0400
TZOFFSETTO:-0500
TZNAME:EST
DTSTART:20251102T060000
END:STANDARD
BEGIN:DAYLIGHT
TZOFFSETFROM:-0500
TZOFFSETTO:-0400
TZNAME:EDT
DTSTART:20260308T070000
END:DAYLIGHT
BEGIN:STANDARD
TZOFFSETFROM:-0400
TZOFFSETTO:-0500
TZNAME:EST
DTSTART:20261101T060000
END:STANDARD
END:VTIMEZONE
BEGIN:VEVENT
DTSTART;TZID=America/New_York:20251104T110000
DTEND;TZID=America/New_York:20251104T133000
DTSTAMP:20260419T172954
CREATED:20250710T203055Z
LAST-MODIFIED:20251006T203543Z
UID:10003103-1762254000-1762263000@amakerscircle.com
SUMMARY:Watercolor Skills 8 Week Series\, Fall 2025 (SOLD OUT)
DESCRIPTION:[vc_row][vc_column][vc_column_text css=””]. \nWhether you are new to watercolor or already painting and experiencing the frustration of managing this medium; you will gain new skills during this series. This series will cover many of the critical skills needed by the watercolor artist to manage the paint better so you can enjoy your painting time. \nSeries focus includes: \n\nColor Mixing – how to get the color you want\, fast.\nPigment to water ratio. Pigment strength is a critically important skill in watercolor. Without this knowledge your paintings will look anemic and flat.\nBrush control- Find out what your brushes can do! You don’t need a ton of brushes to get the effect you desire. A few will do nicely.\nDeconstructing a scene for the best watercolor outcome.\nSpecial skills:\n\npainting figures in watercolor scenes- the secret…less is more!\npainting trees \, bushes and foliage.\nAdding cars and other “stuff” to give a scene energy\, texture and life.\n\n\nPulling it all together\, the last class we will paint a scene bringing all these skills into focus.\n\nCancelation: Studios cancelling more than 1 week ahead of the series start\, will receive a full refund. After that\, tuition is non refundable. \n[/vc_column_text][/vc_column][/vc_row]
URL:https://amakerscircle.com/class-workshop/basic-watercolor-skills-series-fall-2025/2025-11-04/
LOCATION:A Maker’s Circle Studio\, 8 Hacklebarney Road\, Pottersville\, NJ\, 07979\, United States
CATEGORIES:Adult,Jackie Pankuck,Painting,Studio C - Sharon
ATTACH;FMTTYPE=image/jpeg:https://amakerscircle.com/wp-content/uploads/IMG_1149.jpeg
ORGANIZER;CN="a maker's circle":MAILTO:amakerscircle@gmail.com
END:VEVENT
BEGIN:VEVENT
DTSTART;TZID=America/New_York:20251108T140000
DTEND;TZID=America/New_York:20251108T170000
DTSTAMP:20260419T172954
CREATED:20250901T194114Z
LAST-MODIFIED:20251017T151232Z
UID:10003691-1762610400-1762621200@amakerscircle.com
SUMMARY:Teen Painting: Introduction to Oil Painting (Sequencing) with Artist\, Jackie Pankuck\, Sat. Nov. 8\, 2-5pm
DESCRIPTION:[vc_row][vc_column][vc_column_text css=””]Sequencing is a great introduction to oil painting for teens. It is a process created in Brattleboro\, Vermont at the River Gallery School. It aims to encourage artists to dive into the medium in a free and impressionistic way breaking their preconceived notions of what it is to paint with oil paints..  \nArtist\, Jackie Pankuck who is certified in this approach to painting\, will provide a wonderful array of oil paint colors and a ton of encouragement to your teen for them to paint a number of beautiful small oils. They will surprise themselves with what they create! \nStudents\, aged 11-16 will be provided all the materials they need in this encouraging\, low pressure class.  [/vc_column_text][/vc_column][/vc_row]
URL:https://amakerscircle.com/class-workshop/teen-painting-introduction-to-oil-painting-with-artist-jackie-pankuck-nov-8-2-430pm/
LOCATION:A Maker’s Circle Studio\, 8 Hacklebarney Road\, Pottersville\, NJ\, 07979\, United States
CATEGORIES:Jackie Pankuck,Kids,Painting,Studio C - Sharon,Teen and Tween
ATTACH;FMTTYPE=image/jpeg:https://amakerscircle.com/wp-content/uploads/480518425_9187335848043980_7324212562763798620_n.jpg
ORGANIZER;CN="a maker's circle":MAILTO:amakerscircle@gmail.com
END:VEVENT
BEGIN:VEVENT
DTSTART;TZID=America/New_York:20251111T110000
DTEND;TZID=America/New_York:20251111T133000
DTSTAMP:20260419T172954
CREATED:20250710T203055Z
LAST-MODIFIED:20251006T203543Z
UID:10003104-1762858800-1762867800@amakerscircle.com
SUMMARY:Watercolor Skills 8 Week Series\, Fall 2025 (SOLD OUT)
DESCRIPTION:[vc_row][vc_column][vc_column_text css=””]. \nWhether you are new to watercolor or already painting and experiencing the frustration of managing this medium; you will gain new skills during this series. This series will cover many of the critical skills needed by the watercolor artist to manage the paint better so you can enjoy your painting time. \nSeries focus includes: \n\nColor Mixing – how to get the color you want\, fast.\nPigment to water ratio. Pigment strength is a critically important skill in watercolor. Without this knowledge your paintings will look anemic and flat.\nBrush control- Find out what your brushes can do! You don’t need a ton of brushes to get the effect you desire. A few will do nicely.\nDeconstructing a scene for the best watercolor outcome.\nSpecial skills:\n\npainting figures in watercolor scenes- the secret…less is more!\npainting trees \, bushes and foliage.\nAdding cars and other “stuff” to give a scene energy\, texture and life.\n\n\nPulling it all together\, the last class we will paint a scene bringing all these skills into focus.\n\nCancelation: Studios cancelling more than 1 week ahead of the series start\, will receive a full refund. After that\, tuition is non refundable. \n[/vc_column_text][/vc_column][/vc_row]
URL:https://amakerscircle.com/class-workshop/basic-watercolor-skills-series-fall-2025/2025-11-11/
LOCATION:A Maker’s Circle Studio\, 8 Hacklebarney Road\, Pottersville\, NJ\, 07979\, United States
CATEGORIES:Adult,Jackie Pankuck,Painting,Studio C - Sharon
ATTACH;FMTTYPE=image/jpeg:https://amakerscircle.com/wp-content/uploads/IMG_1149.jpeg
ORGANIZER;CN="a maker's circle":MAILTO:amakerscircle@gmail.com
END:VEVENT
BEGIN:VEVENT
DTSTART;TZID=America/New_York:20251112T100000
DTEND;TZID=America/New_York:20251112T130000
DTSTAMP:20260419T172954
CREATED:20250910T014737Z
LAST-MODIFIED:20251006T203059Z
UID:10004146-1762941600-1762952400@amakerscircle.com
SUMMARY:November Monthly Watercolor - Bare trees and muted tones
DESCRIPTION:[vc_row][vc_column][vc_column_text css=””]November is the beginning of the long winter’s sleep here in the Northeast. And that beginning is characterized by bare trees and muted tones. Join us for November’s monthly watercolor class to explore the quiet\, grey and browns of the beginner of Winter. With the sun low in the sky\, this photo reference is an exploration of the sculptural nature of bare trees and brush as well as the lingering warmth of late Fall. \nJoin artist\, Jackie Pankuck as we create a painting from drawing to finished work in watercolor. All materials will be provided and all experience levels are welcome. \nCancelation Policy: Students cancelling outside 1 week of the class will be refunded. Inside 1 week\, tuition is non refundable.[/vc_column_text][/vc_column][/vc_row]
URL:https://amakerscircle.com/class-workshop/november-monthly-watercolor-bare-trees-and-muted-tones/
LOCATION:A Maker’s Circle Studio\, 8 Hacklebarney Road\, Pottersville\, NJ\, 07979\, United States
CATEGORIES:Adult,Jackie Pankuck,Painting,Studio C - Sharon
ATTACH;FMTTYPE=image/jpeg:https://amakerscircle.com/wp-content/uploads/a2df2e8adf0cc5c9c6bd533b653fd404.jpg
ORGANIZER;CN="a maker's circle":MAILTO:amakerscircle@gmail.com
END:VEVENT
BEGIN:VEVENT
DTSTART;TZID=America/New_York:20251112T180000
DTEND;TZID=America/New_York:20251112T210000
DTSTAMP:20260419T172954
CREATED:20250910T015457Z
LAST-MODIFIED:20251006T203152Z
UID:10004147-1762970400-1762981200@amakerscircle.com
SUMMARY:November Monthly Watercolor Paint & Sip - Bare Trees
DESCRIPTION:[vc_row][vc_column][vc_column_text css=””]Join us for a relaxing evening paint and sip. \nNovember is the beginning of the long winter’s sleep here in the Northeast. And that beginning is characterized by bare trees and muted tones. Join us for November’s monthly watercolor class to explore the quiet\, grey and browns of the beginner of Winter. With the sun low in the sky\, this photo reference is an exploration of the sculptural nature of bare trees and brush as well as the lingering warmth of late Fall. \nJoin artist\, Jackie Pankuck as we create a painting from drawing to finished work in watercolor. All materials will be provided and all experience levels are welcome. \nCancelation Policy: Students cancelling outside 1 week of the class will be refunded. Inside 1 week\, tuition is non refundable.[/vc_column_text][/vc_column][/vc_row]
URL:https://amakerscircle.com/class-workshop/november-monthly-watercolor-paint-sip-bare-trees/
LOCATION:A Maker’s Circle Studio\, 8 Hacklebarney Road\, Pottersville\, NJ\, 07979\, United States
CATEGORIES:Adult,Jackie Pankuck,Painting,Studio C - Sharon
ATTACH;FMTTYPE=image/jpeg:https://amakerscircle.com/wp-content/uploads/a2df2e8adf0cc5c9c6bd533b653fd404.jpg
ORGANIZER;CN="a maker's circle":MAILTO:amakerscircle@gmail.com
END:VEVENT
BEGIN:VEVENT
DTSTART;TZID=America/New_York:20251113T110000
DTEND;TZID=America/New_York:20251113T133000
DTSTAMP:20260419T172954
CREATED:20251030T182331Z
LAST-MODIFIED:20251030T183718Z
UID:10005683-1763031600-1763040600@amakerscircle.com
SUMMARY:2 Week Master Study in Watercolor -  Nov 13\, 20
DESCRIPTION:[vc_row][vc_column][vc_column_text css=””]Trevor Chamberlain is one of the most celebrated English watercolor painters of this generation and learning through his work is a great use of our time. His approach is very moody and soft which he achieves through wetting both sides of the paper to extend the dry time and maximize soft edges. This painting is one of my favorites and depicts a quiet canal in Venice with beautiful light and dark contrasts. \nWe will explore this painting in detail to figure out what Chamberlain did to achieve this work – specifically looking at what layers went on and when\, the saturation level of each wash and most importantly the timing of each application of paint. \nThis class is appropriate for intermediate to advanced students and runs over two days – Nov. 13 & 20 from 11am-1:30pm \nCancellation Policy: \nAny student canceling more than 1 week before the start of class will be refunded. Please note\, however\, that we incur a small transaction fee for all online signups. That  amount will be subtracted from your refund. If the class is cancelled by us for any reason\, you will be refunded in full. For students wanting to cancel within 1 week of a class\, please be aware that your tuition is non refundable.[/vc_column_text][/vc_column][/vc_row]
URL:https://amakerscircle.com/class-workshop/2-week-master-study-in-watercolor/2025-11-13/
LOCATION:A Maker’s Circle Studio\, 8 Hacklebarney Road\, Pottersville\, NJ\, 07979\, United States
CATEGORIES:Adult,Jackie Pankuck,Painting,Studio C - Sharon
ATTACH;FMTTYPE=image/jpeg:https://amakerscircle.com/wp-content/uploads/IMG_2670.jpg
ORGANIZER;CN="a maker's circle":MAILTO:amakerscircle@gmail.com
END:VEVENT
BEGIN:VEVENT
DTSTART;TZID=America/New_York:20251114T100000
DTEND;TZID=America/New_York:20251114T150000
DTSTAMP:20260419T172954
CREATED:20250711T000857Z
LAST-MODIFIED:20251110T172444Z
UID:10002804-1763114400-1763132400@amakerscircle.com
SUMMARY:Visible Mending: Knits and Denim\, Don't Throw Them Away\, Make 'em Better!
DESCRIPTION:[vc_row][vc_column][vc_column_text css=””]If you have a favorite sweater that moths have attacked or a favorite pair of jeans that have worn through; we can show you how to save them and make them a work of art with visual mending. This 5 hour class will open a world of options to you for limiting your carbon footprint while learning a meditative skill. We will sit together and slow stitch our way to newly rejuvenated pieces that will live on in our closets. \nSewer Jackie Pankuck\, will show you a bunch of ways to repair your garments so that they are stronger and more beautiful than ever in this 5 hour\, one day class. \nStudents will bring their garments to be repaired; sweaters\, shirts\, jeans\, scarves\, socks\, mittens\, etc! We will provide a ton of materials for that repair from fabric to wool; cashmere to thread. We can decide together what the best option is based on the garment and your style choice.  If you have any fabric that you would like to incorporate in your repair\, feel free to bring it! \nWe will supply all you need in terms of needles\, scissors\, etc.  and the expertise to do the work. You will LOVE this class. \n  \n              \n \n  \n  \n  \n  \n  \n  \n  \n  \n  \n  \n  \n  \n  \n  \n \n  \nCancelation Policy.: Students who cancel more than 1 week before class will receive a refund. After that\, tuition is non-refundable.[/vc_column_text][/vc_column][/vc_row]
URL:https://amakerscircle.com/class-workshop/visual-mending-of-beloved-garments-reduce-reuse-recycle/
LOCATION:A Maker’s Circle Studio\, 8 Hacklebarney Road\, Pottersville\, NJ\, 07979\, United States
CATEGORIES:Adult,Elevated Craft,Jackie Pankuck,Studio C - Sharon
ATTACH;FMTTYPE=image/jpeg:https://amakerscircle.com/wp-content/uploads/curgmqdnpfbch2l8vtbd.jpg
ORGANIZER;CN="a maker's circle":MAILTO:amakerscircle@gmail.com
END:VEVENT
BEGIN:VEVENT
DTSTART;TZID=America/New_York:20251118T110000
DTEND;TZID=America/New_York:20251118T133000
DTSTAMP:20260419T172954
CREATED:20250710T203055Z
LAST-MODIFIED:20251006T203543Z
UID:10004238-1763463600-1763472600@amakerscircle.com
SUMMARY:Watercolor Skills 8 Week Series\, Fall 2025 (SOLD OUT)
DESCRIPTION:[vc_row][vc_column][vc_column_text css=””]. \nWhether you are new to watercolor or already painting and experiencing the frustration of managing this medium; you will gain new skills during this series. This series will cover many of the critical skills needed by the watercolor artist to manage the paint better so you can enjoy your painting time. \nSeries focus includes: \n\nColor Mixing – how to get the color you want\, fast.\nPigment to water ratio. Pigment strength is a critically important skill in watercolor. Without this knowledge your paintings will look anemic and flat.\nBrush control- Find out what your brushes can do! You don’t need a ton of brushes to get the effect you desire. A few will do nicely.\nDeconstructing a scene for the best watercolor outcome.\nSpecial skills:\n\npainting figures in watercolor scenes- the secret…less is more!\npainting trees \, bushes and foliage.\nAdding cars and other “stuff” to give a scene energy\, texture and life.\n\n\nPulling it all together\, the last class we will paint a scene bringing all these skills into focus.\n\nCancelation: Studios cancelling more than 1 week ahead of the series start\, will receive a full refund. After that\, tuition is non refundable. \n[/vc_column_text][/vc_column][/vc_row]
URL:https://amakerscircle.com/class-workshop/basic-watercolor-skills-series-fall-2025/2025-11-18/
LOCATION:A Maker’s Circle Studio\, 8 Hacklebarney Road\, Pottersville\, NJ\, 07979\, United States
CATEGORIES:Adult,Jackie Pankuck,Painting,Studio C - Sharon
ATTACH;FMTTYPE=image/jpeg:https://amakerscircle.com/wp-content/uploads/IMG_1149.jpeg
ORGANIZER;CN="a maker's circle":MAILTO:amakerscircle@gmail.com
END:VEVENT
BEGIN:VEVENT
DTSTART;TZID=America/New_York:20251120T110000
DTEND;TZID=America/New_York:20251120T133000
DTSTAMP:20260419T172954
CREATED:20251030T182331Z
LAST-MODIFIED:20251030T183718Z
UID:10005684-1763636400-1763645400@amakerscircle.com
SUMMARY:2 Week Master Study in Watercolor -  Nov 13\, 20
DESCRIPTION:[vc_row][vc_column][vc_column_text css=””]Trevor Chamberlain is one of the most celebrated English watercolor painters of this generation and learning through his work is a great use of our time. His approach is very moody and soft which he achieves through wetting both sides of the paper to extend the dry time and maximize soft edges. This painting is one of my favorites and depicts a quiet canal in Venice with beautiful light and dark contrasts. \nWe will explore this painting in detail to figure out what Chamberlain did to achieve this work – specifically looking at what layers went on and when\, the saturation level of each wash and most importantly the timing of each application of paint. \nThis class is appropriate for intermediate to advanced students and runs over two days – Nov. 13 & 20 from 11am-1:30pm \nCancellation Policy: \nAny student canceling more than 1 week before the start of class will be refunded. Please note\, however\, that we incur a small transaction fee for all online signups. That  amount will be subtracted from your refund. If the class is cancelled by us for any reason\, you will be refunded in full. For students wanting to cancel within 1 week of a class\, please be aware that your tuition is non refundable.[/vc_column_text][/vc_column][/vc_row]
URL:https://amakerscircle.com/class-workshop/2-week-master-study-in-watercolor/2025-11-20/
LOCATION:A Maker’s Circle Studio\, 8 Hacklebarney Road\, Pottersville\, NJ\, 07979\, United States
CATEGORIES:Adult,Jackie Pankuck,Painting,Studio C - Sharon
ATTACH;FMTTYPE=image/jpeg:https://amakerscircle.com/wp-content/uploads/IMG_2670.jpg
ORGANIZER;CN="a maker's circle":MAILTO:amakerscircle@gmail.com
END:VEVENT
END:VCALENDAR