BEGIN:VCALENDAR
VERSION:2.0
PRODID:-//a maker&#039;s circle - ECPv6.15.20//NONSGML v1.0//EN
CALSCALE:GREGORIAN
METHOD:PUBLISH
X-ORIGINAL-URL:https://amakerscircle.com
X-WR-CALDESC:Events for a maker&#039;s circle
REFRESH-INTERVAL;VALUE=DURATION:PT1H
X-Robots-Tag:noindex
X-PUBLISHED-TTL:PT1H
BEGIN:VTIMEZONE
TZID:America/New_York
BEGIN:DAYLIGHT
TZOFFSETFROM:-0500
TZOFFSETTO:-0400
TZNAME:EDT
DTSTART:20240310T070000
END:DAYLIGHT
BEGIN:STANDARD
TZOFFSETFROM:-0400
TZOFFSETTO:-0500
TZNAME:EST
DTSTART:20241103T060000
END:STANDARD
BEGIN:DAYLIGHT
TZOFFSETFROM:-0500
TZOFFSETTO:-0400
TZNAME:EDT
DTSTART:20250309T070000
END:DAYLIGHT
BEGIN:STANDARD
TZOFFSETFROM:-0400
TZOFFSETTO:-0500
TZNAME:EST
DTSTART:20251102T060000
END:STANDARD
BEGIN:DAYLIGHT
TZOFFSETFROM:-0500
TZOFFSETTO:-0400
TZNAME:EDT
DTSTART:20260308T070000
END:DAYLIGHT
BEGIN:STANDARD
TZOFFSETFROM:-0400
TZOFFSETTO:-0500
TZNAME:EST
DTSTART:20261101T060000
END:STANDARD
END:VTIMEZONE
BEGIN:VEVENT
DTSTART;TZID=America/New_York:20250904T110000
DTEND;TZID=America/New_York:20250904T130000
DTSTAMP:20260421T083635
CREATED:20250710T200702Z
LAST-MODIFIED:20250908T162911Z
UID:10003089-1756983600-1756990800@amakerscircle.com
SUMMARY:Intermediate Watercolor 8 week Series\, Fall 2025 (SOLD OUT)
DESCRIPTION:This series WILL make you a better painter. The secret is “planning”. \nThis class will run for 8 weeks on Thursdays from 11-1:00pm. Dates include:  September 4\, 11\, 25\, October 2\, 9\, 16\, 23\, 30 (skipping September 18) \nOver 8 weeks\, you will plan and complete 4 full paintings from drawing to finished work. We will explore different styles of painting and different types of subject. \n\nYou will paint from a series of four different photo references\, all with their own challenges and appeal.\nThese paintings will help you develop your watercolor techniques for looser\, fresher paintings.\nYou will learn and practice all the important watercolor skills needed to paint a range of scenes.\nThese sessions are geared for the intermediate painter.\nAll materials are provided.\n\nCancellation Policy: Students will be refunded in full up to one week prior to the class date. No refunds will be offered within a week of the beginning of the series.
URL:https://amakerscircle.com/class-workshop/intermediate-watercolor-series-fall-2025/2025-09-04/
LOCATION:A Maker’s Circle Studio\, 8 Hacklebarney Road\, Pottersville\, NJ\, 07979\, United States
CATEGORIES:Adult,Jackie Pankuck,Painting,Studio C - Sharon
ATTACH;FMTTYPE=image/jpeg:https://amakerscircle.com/wp-content/uploads/IMG_0367.jpeg
END:VEVENT
BEGIN:VEVENT
DTSTART;TZID=America/New_York:20250918T110000
DTEND;TZID=America/New_York:20250918T130000
DTSTAMP:20260421T083635
CREATED:20250710T200702Z
LAST-MODIFIED:20250908T162911Z
UID:10003090-1758193200-1758200400@amakerscircle.com
SUMMARY:Intermediate Watercolor 8 week Series\, Fall 2025 (SOLD OUT)
DESCRIPTION:This series WILL make you a better painter. The secret is “planning”. \nThis class will run for 8 weeks on Thursdays from 11-1:00pm. Dates include:  September 4\, 11\, 25\, October 2\, 9\, 16\, 23\, 30 (skipping September 18) \nOver 8 weeks\, you will plan and complete 4 full paintings from drawing to finished work. We will explore different styles of painting and different types of subject. \n\nYou will paint from a series of four different photo references\, all with their own challenges and appeal.\nThese paintings will help you develop your watercolor techniques for looser\, fresher paintings.\nYou will learn and practice all the important watercolor skills needed to paint a range of scenes.\nThese sessions are geared for the intermediate painter.\nAll materials are provided.\n\nCancellation Policy: Students will be refunded in full up to one week prior to the class date. No refunds will be offered within a week of the beginning of the series.
URL:https://amakerscircle.com/class-workshop/intermediate-watercolor-series-fall-2025/2025-09-18/
LOCATION:A Maker’s Circle Studio\, 8 Hacklebarney Road\, Pottersville\, NJ\, 07979\, United States
CATEGORIES:Adult,Jackie Pankuck,Painting,Studio C - Sharon
ATTACH;FMTTYPE=image/jpeg:https://amakerscircle.com/wp-content/uploads/IMG_0367.jpeg
END:VEVENT
BEGIN:VEVENT
DTSTART;TZID=America/New_York:20250925T110000
DTEND;TZID=America/New_York:20250925T130000
DTSTAMP:20260421T083635
CREATED:20250710T200702Z
LAST-MODIFIED:20250908T162911Z
UID:10003091-1758798000-1758805200@amakerscircle.com
SUMMARY:Intermediate Watercolor 8 week Series\, Fall 2025 (SOLD OUT)
DESCRIPTION:This series WILL make you a better painter. The secret is “planning”. \nThis class will run for 8 weeks on Thursdays from 11-1:00pm. Dates include:  September 4\, 11\, 25\, October 2\, 9\, 16\, 23\, 30 (skipping September 18) \nOver 8 weeks\, you will plan and complete 4 full paintings from drawing to finished work. We will explore different styles of painting and different types of subject. \n\nYou will paint from a series of four different photo references\, all with their own challenges and appeal.\nThese paintings will help you develop your watercolor techniques for looser\, fresher paintings.\nYou will learn and practice all the important watercolor skills needed to paint a range of scenes.\nThese sessions are geared for the intermediate painter.\nAll materials are provided.\n\nCancellation Policy: Students will be refunded in full up to one week prior to the class date. No refunds will be offered within a week of the beginning of the series.
URL:https://amakerscircle.com/class-workshop/intermediate-watercolor-series-fall-2025/2025-09-25/
LOCATION:A Maker’s Circle Studio\, 8 Hacklebarney Road\, Pottersville\, NJ\, 07979\, United States
CATEGORIES:Adult,Jackie Pankuck,Painting,Studio C - Sharon
ATTACH;FMTTYPE=image/jpeg:https://amakerscircle.com/wp-content/uploads/IMG_0367.jpeg
END:VEVENT
BEGIN:VEVENT
DTSTART;TZID=America/New_York:20250926T100000
DTEND;TZID=America/New_York:20250926T140000
DTSTAMP:20260421T083635
CREATED:20250711T002312Z
LAST-MODIFIED:20250819T000711Z
UID:10002805-1758880800-1758895200@amakerscircle.com
SUMMARY:One Day\, Alla Prima Oil Painting Class on Florals with Artist\, Jackie Pankuck
DESCRIPTION:Join this 4 hour\, alla prima oil painting class on creating a soft\, ethereal florals in oils. Artist Jackie Pankuck will take you through the translation of a floral photo reference with the intention of blurring the lines between the elements using specific timing and brush techniques. \nAll materials (linen panel\, paints\, brushes\, solvents) will be provided. \nCancelation: Tuition will be refunded for any students cancelling outside of one week before class. Inside one week\, tuition is non refundable.
URL:https://amakerscircle.com/class-workshop/one-day-alla-prima-oil-painting-class-on-florals-with-artist-jackie-pankuck/
LOCATION:A Maker’s Circle Studio\, 8 Hacklebarney Road\, Pottersville\, NJ\, 07979\, United States
CATEGORIES:Adult,Jackie Pankuck,Painting,Studio C - Sharon
ATTACH;FMTTYPE=image/jpeg:https://amakerscircle.com/wp-content/uploads/IMG_6960-scaled.jpeg
ORGANIZER;CN="a maker's circle":MAILTO:amakerscircle@gmail.com
END:VEVENT
BEGIN:VEVENT
DTSTART;TZID=America/New_York:20250930T110000
DTEND;TZID=America/New_York:20250930T133000
DTSTAMP:20260421T083635
CREATED:20250710T203055Z
LAST-MODIFIED:20251006T203543Z
UID:10003098-1759230000-1759239000@amakerscircle.com
SUMMARY:Watercolor Skills 8 Week Series\, Fall 2025 (SOLD OUT)
DESCRIPTION:[vc_row][vc_column][vc_column_text css=””]. \nWhether you are new to watercolor or already painting and experiencing the frustration of managing this medium; you will gain new skills during this series. This series will cover many of the critical skills needed by the watercolor artist to manage the paint better so you can enjoy your painting time. \nSeries focus includes: \n\nColor Mixing – how to get the color you want\, fast.\nPigment to water ratio. Pigment strength is a critically important skill in watercolor. Without this knowledge your paintings will look anemic and flat.\nBrush control- Find out what your brushes can do! You don’t need a ton of brushes to get the effect you desire. A few will do nicely.\nDeconstructing a scene for the best watercolor outcome.\nSpecial skills:\n\npainting figures in watercolor scenes- the secret…less is more!\npainting trees \, bushes and foliage.\nAdding cars and other “stuff” to give a scene energy\, texture and life.\n\n\nPulling it all together\, the last class we will paint a scene bringing all these skills into focus.\n\nCancelation: Studios cancelling more than 1 week ahead of the series start\, will receive a full refund. After that\, tuition is non refundable. \n[/vc_column_text][/vc_column][/vc_row]
URL:https://amakerscircle.com/class-workshop/basic-watercolor-skills-series-fall-2025/2025-09-30/
LOCATION:A Maker’s Circle Studio\, 8 Hacklebarney Road\, Pottersville\, NJ\, 07979\, United States
CATEGORIES:Adult,Jackie Pankuck,Painting,Studio C - Sharon
ATTACH;FMTTYPE=image/jpeg:https://amakerscircle.com/wp-content/uploads/IMG_1149.jpeg
ORGANIZER;CN="a maker's circle":MAILTO:amakerscircle@gmail.com
END:VEVENT
END:VCALENDAR