BEGIN:VCALENDAR
VERSION:2.0
PRODID:-//a maker&#039;s circle - ECPv6.15.20//NONSGML v1.0//EN
CALSCALE:GREGORIAN
METHOD:PUBLISH
X-ORIGINAL-URL:https://amakerscircle.com
X-WR-CALDESC:Events for a maker&#039;s circle
REFRESH-INTERVAL;VALUE=DURATION:PT1H
X-Robots-Tag:noindex
X-PUBLISHED-TTL:PT1H
BEGIN:VTIMEZONE
TZID:America/New_York
BEGIN:DAYLIGHT
TZOFFSETFROM:-0500
TZOFFSETTO:-0400
TZNAME:EDT
DTSTART:20240310T070000
END:DAYLIGHT
BEGIN:STANDARD
TZOFFSETFROM:-0400
TZOFFSETTO:-0500
TZNAME:EST
DTSTART:20241103T060000
END:STANDARD
BEGIN:DAYLIGHT
TZOFFSETFROM:-0500
TZOFFSETTO:-0400
TZNAME:EDT
DTSTART:20250309T070000
END:DAYLIGHT
BEGIN:STANDARD
TZOFFSETFROM:-0400
TZOFFSETTO:-0500
TZNAME:EST
DTSTART:20251102T060000
END:STANDARD
BEGIN:DAYLIGHT
TZOFFSETFROM:-0500
TZOFFSETTO:-0400
TZNAME:EDT
DTSTART:20260308T070000
END:DAYLIGHT
BEGIN:STANDARD
TZOFFSETFROM:-0400
TZOFFSETTO:-0500
TZNAME:EST
DTSTART:20261101T060000
END:STANDARD
END:VTIMEZONE
BEGIN:VEVENT
DTSTART;TZID=America/New_York:20250702T100000
DTEND;TZID=America/New_York:20250702T130000
DTSTAMP:20260421T184333
CREATED:20250513T190115Z
LAST-MODIFIED:20250701T222920Z
UID:10000004-1751450400-1751461200@amakerscircle.com
SUMMARY:One Time Watercolor - Painting a Beach Scene (July 2)
DESCRIPTION:Join our one-time watercolor class Wednesday\, July 2\, 10-1pm. \nMaster Study of a Joseph Zbukvic painting: \nLet’s see what we can learn from the master\, Mr. Zbukvic. Joseph is well accepted as the GOAT in the watercolor world. His paintings are ethereal\, tonal and just gorgeous. \nThis month we will try our hand at learning from him by painting this scene. It is a great example of wet into wet\, perspective and painting figures.   \nThis is open to all levels and all materials will be provided.  \nCancelation: Tuition will be refunded for any students cancelling outside of one week before class. Inside one week\, tuition is non refundable.
URL:https://amakerscircle.com/class-workshop/one-time-watercolor-painting-a-beach-scene-july-1/
LOCATION:A Maker’s Circle Studio\, 8 Hacklebarney Road\, Pottersville\, NJ\, 07979\, United States
CATEGORIES:Jackie Pankuck,Painting,Studio C - Sharon
ATTACH;FMTTYPE=image/jpeg:https://amakerscircle.com/wp-content/uploads/45226ae034be52ffd0ae80d5205dd844.jpg
ORGANIZER;CN="a maker's circle":MAILTO:amakerscircle@gmail.com
END:VEVENT
BEGIN:VEVENT
DTSTART;TZID=America/New_York:20250703T110000
DTEND;TZID=America/New_York:20250703T130000
DTSTAMP:20260421T184333
CREATED:20250606T195217Z
LAST-MODIFIED:20250713T112320Z
UID:10000193-1751540400-1751547600@amakerscircle.com
SUMMARY:Intermediate Watercolor Planning – Summer 2025 - SOLD OUT
DESCRIPTION:This series WILL make you a better painter. The secret is “planning”. \nThis class will run for 8 weeks on Thursdays from 11-1pm. Dates include: May 22\, 29\, June 12\, July 3\, 10\, 17\, 24\, 31. We will skip June 5\, 19 & 26. \nOver 8 weeks\, you will plan and complete 4 full paintings from drawing to finished work. We will explore different styles of painting and different types of subject. \n\nYou will paint from a series of four different photo references\, all with their own challenges and appeal.\nThese paintings will help you develop your watercolor techniques for looser\, fresher paintings.\nYou will learn and practice all the important watercolor skills needed to paint a range of scenes.\nThese sessions are geared for the intermediate painter.\nAll materials are provided.\n\nCancellation Policy: Students will be refunded in full up to one week prior to the class date. No refunds will be offered within a week of the beginning of the series.
URL:https://amakerscircle.com/class-workshop/intermediate-watercolor-planning-summer-2025-8-wk-series/2025-07-03/
LOCATION:A Maker’s Circle Studio\, 8 Hacklebarney Road\, Pottersville\, NJ\, 07979\, United States
CATEGORIES:Jackie Pankuck,Painting,Studio C - Sharon
ATTACH;FMTTYPE=image/jpeg:https://amakerscircle.com/wp-content/uploads/IMG_4409.jpeg
ORGANIZER;CN="a maker's circle":MAILTO:amakerscircle@gmail.com
END:VEVENT
BEGIN:VEVENT
DTSTART;TZID=America/New_York:20250709T110000
DTEND;TZID=America/New_York:20250709T133000
DTSTAMP:20260421T184333
CREATED:20250606T203522Z
LAST-MODIFIED:20250713T112229Z
UID:10000644-1752058800-1752067800@amakerscircle.com
SUMMARY:The Key to Sketching Well (4 wk series\, July 9-30) SOLD OUT
DESCRIPTION:This is a beginner class: \nThe Key to Sketching Well (4 wk series\, July 9-30) 11-1:30pm \nThe truth about sketching is that ANYONE can do it. You just need the right teacher\, support and time with a pencil in your hand.  This beginner class series will introduce you to drawing from the ground up with a focus on basic skills that will make you much more comfortable with any subject. This series includes 4\, 2 hour sessions\, each of which will focus on a specific drawing skills with the goal of teaching you how to really see what is in front of you. \nWe will focus on: \n\nTraining our brains to really see angles and lines of things\nFiguring out shortcuts to get the drawing right.\nMaking decisions about what goes where and how they relate to each other\nManaging perspective well enough to make things “look right”\n\nBasic materials will be provided (pencil and sketchbook) \nGreat adjunct book for this class is (not included in the cost of the class): \nSketching – from Square One to Trafalgar Square by Richard E. Scott\, available on Amazon here. It is not required to buy this book but it’s a great addition to your art library. We will be using Scott’s approach to learning to “see” what we are drawing.\n  \nCancellation Policy: Students will be refunded in full up to one week prior to the class date. No refunds will be offered within a week of the beginning of the series.
URL:https://amakerscircle.com/class-workshop/the-key-to-sketching-well-4-wk-series-july-9-30/2025-07-09/
LOCATION:A Maker’s Circle Studio\, 8 Hacklebarney Road\, Pottersville\, NJ\, 07979\, United States
CATEGORIES:Drawing,Jackie Pankuck,Studio C - Sharon
ATTACH;FMTTYPE=image/jpeg:https://amakerscircle.com/wp-content/uploads/IMG_0350.jpeg
ORGANIZER;CN="a maker's circle":MAILTO:amakerscircle@gmail.com
END:VEVENT
BEGIN:VEVENT
DTSTART;TZID=America/New_York:20250710T110000
DTEND;TZID=America/New_York:20250710T130000
DTSTAMP:20260421T184333
CREATED:20250606T195217Z
LAST-MODIFIED:20250713T112320Z
UID:10000194-1752145200-1752152400@amakerscircle.com
SUMMARY:Intermediate Watercolor Planning – Summer 2025 - SOLD OUT
DESCRIPTION:This series WILL make you a better painter. The secret is “planning”. \nThis class will run for 8 weeks on Thursdays from 11-1pm. Dates include: May 22\, 29\, June 12\, July 3\, 10\, 17\, 24\, 31. We will skip June 5\, 19 & 26. \nOver 8 weeks\, you will plan and complete 4 full paintings from drawing to finished work. We will explore different styles of painting and different types of subject. \n\nYou will paint from a series of four different photo references\, all with their own challenges and appeal.\nThese paintings will help you develop your watercolor techniques for looser\, fresher paintings.\nYou will learn and practice all the important watercolor skills needed to paint a range of scenes.\nThese sessions are geared for the intermediate painter.\nAll materials are provided.\n\nCancellation Policy: Students will be refunded in full up to one week prior to the class date. No refunds will be offered within a week of the beginning of the series.
URL:https://amakerscircle.com/class-workshop/intermediate-watercolor-planning-summer-2025-8-wk-series/2025-07-10/
LOCATION:A Maker’s Circle Studio\, 8 Hacklebarney Road\, Pottersville\, NJ\, 07979\, United States
CATEGORIES:Jackie Pankuck,Painting,Studio C - Sharon
ATTACH;FMTTYPE=image/jpeg:https://amakerscircle.com/wp-content/uploads/IMG_4409.jpeg
ORGANIZER;CN="a maker's circle":MAILTO:amakerscircle@gmail.com
END:VEVENT
BEGIN:VEVENT
DTSTART;TZID=America/New_York:20250716T110000
DTEND;TZID=America/New_York:20250716T133000
DTSTAMP:20260421T184333
CREATED:20250606T203522Z
LAST-MODIFIED:20250713T112229Z
UID:10000645-1752663600-1752672600@amakerscircle.com
SUMMARY:The Key to Sketching Well (4 wk series\, July 9-30) SOLD OUT
DESCRIPTION:This is a beginner class: \nThe Key to Sketching Well (4 wk series\, July 9-30) 11-1:30pm \nThe truth about sketching is that ANYONE can do it. You just need the right teacher\, support and time with a pencil in your hand.  This beginner class series will introduce you to drawing from the ground up with a focus on basic skills that will make you much more comfortable with any subject. This series includes 4\, 2 hour sessions\, each of which will focus on a specific drawing skills with the goal of teaching you how to really see what is in front of you. \nWe will focus on: \n\nTraining our brains to really see angles and lines of things\nFiguring out shortcuts to get the drawing right.\nMaking decisions about what goes where and how they relate to each other\nManaging perspective well enough to make things “look right”\n\nBasic materials will be provided (pencil and sketchbook) \nGreat adjunct book for this class is (not included in the cost of the class): \nSketching – from Square One to Trafalgar Square by Richard E. Scott\, available on Amazon here. It is not required to buy this book but it’s a great addition to your art library. We will be using Scott’s approach to learning to “see” what we are drawing.\n  \nCancellation Policy: Students will be refunded in full up to one week prior to the class date. No refunds will be offered within a week of the beginning of the series.
URL:https://amakerscircle.com/class-workshop/the-key-to-sketching-well-4-wk-series-july-9-30/2025-07-16/
LOCATION:A Maker’s Circle Studio\, 8 Hacklebarney Road\, Pottersville\, NJ\, 07979\, United States
CATEGORIES:Drawing,Jackie Pankuck,Studio C - Sharon
ATTACH;FMTTYPE=image/jpeg:https://amakerscircle.com/wp-content/uploads/IMG_0350.jpeg
ORGANIZER;CN="a maker's circle":MAILTO:amakerscircle@gmail.com
END:VEVENT
BEGIN:VEVENT
DTSTART;TZID=America/New_York:20250717T110000
DTEND;TZID=America/New_York:20250717T130000
DTSTAMP:20260421T184333
CREATED:20250606T195217Z
LAST-MODIFIED:20250713T112320Z
UID:10000195-1752750000-1752757200@amakerscircle.com
SUMMARY:Intermediate Watercolor Planning – Summer 2025 - SOLD OUT
DESCRIPTION:This series WILL make you a better painter. The secret is “planning”. \nThis class will run for 8 weeks on Thursdays from 11-1pm. Dates include: May 22\, 29\, June 12\, July 3\, 10\, 17\, 24\, 31. We will skip June 5\, 19 & 26. \nOver 8 weeks\, you will plan and complete 4 full paintings from drawing to finished work. We will explore different styles of painting and different types of subject. \n\nYou will paint from a series of four different photo references\, all with their own challenges and appeal.\nThese paintings will help you develop your watercolor techniques for looser\, fresher paintings.\nYou will learn and practice all the important watercolor skills needed to paint a range of scenes.\nThese sessions are geared for the intermediate painter.\nAll materials are provided.\n\nCancellation Policy: Students will be refunded in full up to one week prior to the class date. No refunds will be offered within a week of the beginning of the series.
URL:https://amakerscircle.com/class-workshop/intermediate-watercolor-planning-summer-2025-8-wk-series/2025-07-17/
LOCATION:A Maker’s Circle Studio\, 8 Hacklebarney Road\, Pottersville\, NJ\, 07979\, United States
CATEGORIES:Jackie Pankuck,Painting,Studio C - Sharon
ATTACH;FMTTYPE=image/jpeg:https://amakerscircle.com/wp-content/uploads/IMG_4409.jpeg
ORGANIZER;CN="a maker's circle":MAILTO:amakerscircle@gmail.com
END:VEVENT
BEGIN:VEVENT
DTSTART;TZID=America/New_York:20250723T110000
DTEND;TZID=America/New_York:20250723T133000
DTSTAMP:20260421T184333
CREATED:20250606T203522Z
LAST-MODIFIED:20250713T112229Z
UID:10000646-1753268400-1753277400@amakerscircle.com
SUMMARY:The Key to Sketching Well (4 wk series\, July 9-30) SOLD OUT
DESCRIPTION:This is a beginner class: \nThe Key to Sketching Well (4 wk series\, July 9-30) 11-1:30pm \nThe truth about sketching is that ANYONE can do it. You just need the right teacher\, support and time with a pencil in your hand.  This beginner class series will introduce you to drawing from the ground up with a focus on basic skills that will make you much more comfortable with any subject. This series includes 4\, 2 hour sessions\, each of which will focus on a specific drawing skills with the goal of teaching you how to really see what is in front of you. \nWe will focus on: \n\nTraining our brains to really see angles and lines of things\nFiguring out shortcuts to get the drawing right.\nMaking decisions about what goes where and how they relate to each other\nManaging perspective well enough to make things “look right”\n\nBasic materials will be provided (pencil and sketchbook) \nGreat adjunct book for this class is (not included in the cost of the class): \nSketching – from Square One to Trafalgar Square by Richard E. Scott\, available on Amazon here. It is not required to buy this book but it’s a great addition to your art library. We will be using Scott’s approach to learning to “see” what we are drawing.\n  \nCancellation Policy: Students will be refunded in full up to one week prior to the class date. No refunds will be offered within a week of the beginning of the series.
URL:https://amakerscircle.com/class-workshop/the-key-to-sketching-well-4-wk-series-july-9-30/2025-07-23/
LOCATION:A Maker’s Circle Studio\, 8 Hacklebarney Road\, Pottersville\, NJ\, 07979\, United States
CATEGORIES:Drawing,Jackie Pankuck,Studio C - Sharon
ATTACH;FMTTYPE=image/jpeg:https://amakerscircle.com/wp-content/uploads/IMG_0350.jpeg
ORGANIZER;CN="a maker's circle":MAILTO:amakerscircle@gmail.com
END:VEVENT
BEGIN:VEVENT
DTSTART;TZID=America/New_York:20250724T110000
DTEND;TZID=America/New_York:20250724T130000
DTSTAMP:20260421T184333
CREATED:20250606T195217Z
LAST-MODIFIED:20250713T112320Z
UID:10000196-1753354800-1753362000@amakerscircle.com
SUMMARY:Intermediate Watercolor Planning – Summer 2025 - SOLD OUT
DESCRIPTION:This series WILL make you a better painter. The secret is “planning”. \nThis class will run for 8 weeks on Thursdays from 11-1pm. Dates include: May 22\, 29\, June 12\, July 3\, 10\, 17\, 24\, 31. We will skip June 5\, 19 & 26. \nOver 8 weeks\, you will plan and complete 4 full paintings from drawing to finished work. We will explore different styles of painting and different types of subject. \n\nYou will paint from a series of four different photo references\, all with their own challenges and appeal.\nThese paintings will help you develop your watercolor techniques for looser\, fresher paintings.\nYou will learn and practice all the important watercolor skills needed to paint a range of scenes.\nThese sessions are geared for the intermediate painter.\nAll materials are provided.\n\nCancellation Policy: Students will be refunded in full up to one week prior to the class date. No refunds will be offered within a week of the beginning of the series.
URL:https://amakerscircle.com/class-workshop/intermediate-watercolor-planning-summer-2025-8-wk-series/2025-07-24/
LOCATION:A Maker’s Circle Studio\, 8 Hacklebarney Road\, Pottersville\, NJ\, 07979\, United States
CATEGORIES:Jackie Pankuck,Painting,Studio C - Sharon
ATTACH;FMTTYPE=image/jpeg:https://amakerscircle.com/wp-content/uploads/IMG_4409.jpeg
ORGANIZER;CN="a maker's circle":MAILTO:amakerscircle@gmail.com
END:VEVENT
BEGIN:VEVENT
DTSTART;TZID=America/New_York:20250730T110000
DTEND;TZID=America/New_York:20250730T133000
DTSTAMP:20260421T184333
CREATED:20250606T203522Z
LAST-MODIFIED:20250713T112229Z
UID:10000647-1753873200-1753882200@amakerscircle.com
SUMMARY:The Key to Sketching Well (4 wk series\, July 9-30) SOLD OUT
DESCRIPTION:This is a beginner class: \nThe Key to Sketching Well (4 wk series\, July 9-30) 11-1:30pm \nThe truth about sketching is that ANYONE can do it. You just need the right teacher\, support and time with a pencil in your hand.  This beginner class series will introduce you to drawing from the ground up with a focus on basic skills that will make you much more comfortable with any subject. This series includes 4\, 2 hour sessions\, each of which will focus on a specific drawing skills with the goal of teaching you how to really see what is in front of you. \nWe will focus on: \n\nTraining our brains to really see angles and lines of things\nFiguring out shortcuts to get the drawing right.\nMaking decisions about what goes where and how they relate to each other\nManaging perspective well enough to make things “look right”\n\nBasic materials will be provided (pencil and sketchbook) \nGreat adjunct book for this class is (not included in the cost of the class): \nSketching – from Square One to Trafalgar Square by Richard E. Scott\, available on Amazon here. It is not required to buy this book but it’s a great addition to your art library. We will be using Scott’s approach to learning to “see” what we are drawing.\n  \nCancellation Policy: Students will be refunded in full up to one week prior to the class date. No refunds will be offered within a week of the beginning of the series.
URL:https://amakerscircle.com/class-workshop/the-key-to-sketching-well-4-wk-series-july-9-30/2025-07-30/
LOCATION:A Maker’s Circle Studio\, 8 Hacklebarney Road\, Pottersville\, NJ\, 07979\, United States
CATEGORIES:Drawing,Jackie Pankuck,Studio C - Sharon
ATTACH;FMTTYPE=image/jpeg:https://amakerscircle.com/wp-content/uploads/IMG_0350.jpeg
ORGANIZER;CN="a maker's circle":MAILTO:amakerscircle@gmail.com
END:VEVENT
BEGIN:VEVENT
DTSTART;TZID=America/New_York:20250731T110000
DTEND;TZID=America/New_York:20250731T130000
DTSTAMP:20260421T184333
CREATED:20250606T195217Z
LAST-MODIFIED:20250713T112320Z
UID:10000197-1753959600-1753966800@amakerscircle.com
SUMMARY:Intermediate Watercolor Planning – Summer 2025 - SOLD OUT
DESCRIPTION:This series WILL make you a better painter. The secret is “planning”. \nThis class will run for 8 weeks on Thursdays from 11-1pm. Dates include: May 22\, 29\, June 12\, July 3\, 10\, 17\, 24\, 31. We will skip June 5\, 19 & 26. \nOver 8 weeks\, you will plan and complete 4 full paintings from drawing to finished work. We will explore different styles of painting and different types of subject. \n\nYou will paint from a series of four different photo references\, all with their own challenges and appeal.\nThese paintings will help you develop your watercolor techniques for looser\, fresher paintings.\nYou will learn and practice all the important watercolor skills needed to paint a range of scenes.\nThese sessions are geared for the intermediate painter.\nAll materials are provided.\n\nCancellation Policy: Students will be refunded in full up to one week prior to the class date. No refunds will be offered within a week of the beginning of the series.
URL:https://amakerscircle.com/class-workshop/intermediate-watercolor-planning-summer-2025-8-wk-series/2025-07-31/
LOCATION:A Maker’s Circle Studio\, 8 Hacklebarney Road\, Pottersville\, NJ\, 07979\, United States
CATEGORIES:Jackie Pankuck,Painting,Studio C - Sharon
ATTACH;FMTTYPE=image/jpeg:https://amakerscircle.com/wp-content/uploads/IMG_4409.jpeg
ORGANIZER;CN="a maker's circle":MAILTO:amakerscircle@gmail.com
END:VEVENT
END:VCALENDAR