BEGIN:VCALENDAR
VERSION:2.0
PRODID:-//a maker&#039;s circle - ECPv6.15.20//NONSGML v1.0//EN
CALSCALE:GREGORIAN
METHOD:PUBLISH
X-ORIGINAL-URL:https://amakerscircle.com
X-WR-CALDESC:Events for a maker&#039;s circle
REFRESH-INTERVAL;VALUE=DURATION:PT1H
X-Robots-Tag:noindex
X-PUBLISHED-TTL:PT1H
BEGIN:VTIMEZONE
TZID:America/New_York
BEGIN:DAYLIGHT
TZOFFSETFROM:-0500
TZOFFSETTO:-0400
TZNAME:EDT
DTSTART:20240310T070000
END:DAYLIGHT
BEGIN:STANDARD
TZOFFSETFROM:-0400
TZOFFSETTO:-0500
TZNAME:EST
DTSTART:20241103T060000
END:STANDARD
BEGIN:DAYLIGHT
TZOFFSETFROM:-0500
TZOFFSETTO:-0400
TZNAME:EDT
DTSTART:20250309T070000
END:DAYLIGHT
BEGIN:STANDARD
TZOFFSETFROM:-0400
TZOFFSETTO:-0500
TZNAME:EST
DTSTART:20251102T060000
END:STANDARD
BEGIN:DAYLIGHT
TZOFFSETFROM:-0500
TZOFFSETTO:-0400
TZNAME:EDT
DTSTART:20260308T070000
END:DAYLIGHT
BEGIN:STANDARD
TZOFFSETFROM:-0400
TZOFFSETTO:-0500
TZNAME:EST
DTSTART:20261101T060000
END:STANDARD
END:VTIMEZONE
BEGIN:VEVENT
DTSTART;TZID=America/New_York:20250519T160000
DTEND;TZID=America/New_York:20250519T173000
DTSTAMP:20260424T054443
CREATED:20250606T171620Z
LAST-MODIFIED:20250610T161352Z
UID:10000128-1747670400-1747675800@amakerscircle.com
SUMMARY:Late Spring Teen/Tween Art Class--5 Week Series (Series has begun\, tickets no longer available)
DESCRIPTION:During this 5 week series\, art teachers Susan Palmer\, Kailyn Cavaluzzo and Jackie Pankuck will help your child explore different areas of art including clay\, watercolor and printing.  Your kids will receive two weeks of instruction in each area with a process driven\, child centered learning approach.    \nIncludes all materials. Ages 8-14 welcome.   \n  \nCancellation Policy:  A full refund will be made for students cancelling earlier than 1 week before the beginning of this series. Within one week\, there are no refunds.  Thank you for your understanding as we must cover materials costs and instructor time for each offering.
URL:https://amakerscircle.com/class-workshop/late-spring-teen-tween-art-class-5-week-series-no-class-memorial-day/2025-05-19/
LOCATION:A Maker’s Circle Studio\, 8 Hacklebarney Road\, Pottersville\, NJ\, 07979\, United States
CATEGORIES:Jackie Pankuck,Kailyn Cavaluzzo,Kids,Studio D - Rae,Susan Palmer
ATTACH;FMTTYPE=image/jpeg:https://amakerscircle.com/wp-content/uploads/0984804A-3467-42F5-8462-97D4A541FE6F-1.jpg
ORGANIZER;CN="a maker's circle":MAILTO:amakerscircle@gmail.com
END:VEVENT
BEGIN:VEVENT
DTSTART;TZID=America/New_York:20250521T160000
DTEND;TZID=America/New_York:20250521T171500
DTSTAMP:20260424T054443
CREATED:20250606T172652Z
LAST-MODIFIED:20250610T172328Z
UID:10000141-1747843200-1747847700@amakerscircle.com
SUMMARY:Young Kid's Art Class Late Spring -4 Week Series (Series has begun\, tickets no longer available)
DESCRIPTION:During this 4 week series\, art teachers Susan Palmer and Jackie Pankuck will explore three different areas of art including clay\, watercolor and printing.   Your kids will receive focused instruction in each area with a process driven\, child centered learning approach.    \nIncludes all materials. Ages 5-8 welcome.   \nCancellation Policy:  A full refund will be made for students cancelling earlier than 1 week before the beginning of this series. Within one week\, there are no refunds.  Thank you for your understanding as we must cover materials costs and instructor time for each offering.
URL:https://amakerscircle.com/class-workshop/young-kids-art-class-late-spring-4-week-series/2025-05-21/
LOCATION:A Maker’s Circle Studio\, 8 Hacklebarney Road\, Pottersville\, NJ\, 07979\, United States
CATEGORIES:Jackie Pankuck,Kailyn Cavaluzzo,Kids,Studio D - Rae,Susan Palmer
ATTACH;FMTTYPE=image/jpeg:https://amakerscircle.com/wp-content/uploads/0984804A-3467-42F5-8462-97D4A541FE6F.jpg
ORGANIZER;CN="a maker's circle":MAILTO:amakerscircle@gmail.com
END:VEVENT
BEGIN:VEVENT
DTSTART;TZID=America/New_York:20250522T110000
DTEND;TZID=America/New_York:20250522T130000
DTSTAMP:20260424T054443
CREATED:20250606T195217Z
LAST-MODIFIED:20250713T112320Z
UID:10000187-1747911600-1747918800@amakerscircle.com
SUMMARY:Intermediate Watercolor Planning – Summer 2025 - SOLD OUT
DESCRIPTION:This series WILL make you a better painter. The secret is “planning”. \nThis class will run for 8 weeks on Thursdays from 11-1pm. Dates include: May 22\, 29\, June 12\, July 3\, 10\, 17\, 24\, 31. We will skip June 5\, 19 & 26. \nOver 8 weeks\, you will plan and complete 4 full paintings from drawing to finished work. We will explore different styles of painting and different types of subject. \n\nYou will paint from a series of four different photo references\, all with their own challenges and appeal.\nThese paintings will help you develop your watercolor techniques for looser\, fresher paintings.\nYou will learn and practice all the important watercolor skills needed to paint a range of scenes.\nThese sessions are geared for the intermediate painter.\nAll materials are provided.\n\nCancellation Policy: Students will be refunded in full up to one week prior to the class date. No refunds will be offered within a week of the beginning of the series.
URL:https://amakerscircle.com/class-workshop/intermediate-watercolor-planning-summer-2025-8-wk-series/2025-05-22/
LOCATION:A Maker’s Circle Studio\, 8 Hacklebarney Road\, Pottersville\, NJ\, 07979\, United States
CATEGORIES:Jackie Pankuck,Painting,Studio C - Sharon
ATTACH;FMTTYPE=image/jpeg:https://amakerscircle.com/wp-content/uploads/IMG_4409.jpeg
ORGANIZER;CN="a maker's circle":MAILTO:amakerscircle@gmail.com
END:VEVENT
BEGIN:VEVENT
DTSTART;TZID=America/New_York:20250528T160000
DTEND;TZID=America/New_York:20250528T171500
DTSTAMP:20260424T054443
CREATED:20250606T172652Z
LAST-MODIFIED:20250610T172328Z
UID:10000142-1748448000-1748452500@amakerscircle.com
SUMMARY:Young Kid's Art Class Late Spring -4 Week Series (Series has begun\, tickets no longer available)
DESCRIPTION:During this 4 week series\, art teachers Susan Palmer and Jackie Pankuck will explore three different areas of art including clay\, watercolor and printing.   Your kids will receive focused instruction in each area with a process driven\, child centered learning approach.    \nIncludes all materials. Ages 5-8 welcome.   \nCancellation Policy:  A full refund will be made for students cancelling earlier than 1 week before the beginning of this series. Within one week\, there are no refunds.  Thank you for your understanding as we must cover materials costs and instructor time for each offering.
URL:https://amakerscircle.com/class-workshop/young-kids-art-class-late-spring-4-week-series/2025-05-28/
LOCATION:A Maker’s Circle Studio\, 8 Hacklebarney Road\, Pottersville\, NJ\, 07979\, United States
CATEGORIES:Jackie Pankuck,Kailyn Cavaluzzo,Kids,Studio D - Rae,Susan Palmer
ATTACH;FMTTYPE=image/jpeg:https://amakerscircle.com/wp-content/uploads/0984804A-3467-42F5-8462-97D4A541FE6F.jpg
ORGANIZER;CN="a maker's circle":MAILTO:amakerscircle@gmail.com
END:VEVENT
BEGIN:VEVENT
DTSTART;TZID=America/New_York:20250529T110000
DTEND;TZID=America/New_York:20250529T130000
DTSTAMP:20260424T054443
CREATED:20250606T195217Z
LAST-MODIFIED:20250713T112320Z
UID:10000188-1748516400-1748523600@amakerscircle.com
SUMMARY:Intermediate Watercolor Planning – Summer 2025 - SOLD OUT
DESCRIPTION:This series WILL make you a better painter. The secret is “planning”. \nThis class will run for 8 weeks on Thursdays from 11-1pm. Dates include: May 22\, 29\, June 12\, July 3\, 10\, 17\, 24\, 31. We will skip June 5\, 19 & 26. \nOver 8 weeks\, you will plan and complete 4 full paintings from drawing to finished work. We will explore different styles of painting and different types of subject. \n\nYou will paint from a series of four different photo references\, all with their own challenges and appeal.\nThese paintings will help you develop your watercolor techniques for looser\, fresher paintings.\nYou will learn and practice all the important watercolor skills needed to paint a range of scenes.\nThese sessions are geared for the intermediate painter.\nAll materials are provided.\n\nCancellation Policy: Students will be refunded in full up to one week prior to the class date. No refunds will be offered within a week of the beginning of the series.
URL:https://amakerscircle.com/class-workshop/intermediate-watercolor-planning-summer-2025-8-wk-series/2025-05-29/
LOCATION:A Maker’s Circle Studio\, 8 Hacklebarney Road\, Pottersville\, NJ\, 07979\, United States
CATEGORIES:Jackie Pankuck,Painting,Studio C - Sharon
ATTACH;FMTTYPE=image/jpeg:https://amakerscircle.com/wp-content/uploads/IMG_4409.jpeg
ORGANIZER;CN="a maker's circle":MAILTO:amakerscircle@gmail.com
END:VEVENT
END:VCALENDAR