BEGIN:VCALENDAR
VERSION:2.0
PRODID:-//a maker&#039;s circle - ECPv6.15.20//NONSGML v1.0//EN
CALSCALE:GREGORIAN
METHOD:PUBLISH
X-WR-CALNAME:a maker&#039;s circle
X-ORIGINAL-URL:https://amakerscircle.com
X-WR-CALDESC:Events for a maker&#039;s circle
REFRESH-INTERVAL;VALUE=DURATION:PT1H
X-Robots-Tag:noindex
X-PUBLISHED-TTL:PT1H
BEGIN:VTIMEZONE
TZID:America/New_York
BEGIN:DAYLIGHT
TZOFFSETFROM:-0500
TZOFFSETTO:-0400
TZNAME:EDT
DTSTART:20250309T070000
END:DAYLIGHT
BEGIN:STANDARD
TZOFFSETFROM:-0400
TZOFFSETTO:-0500
TZNAME:EST
DTSTART:20251102T060000
END:STANDARD
BEGIN:DAYLIGHT
TZOFFSETFROM:-0500
TZOFFSETTO:-0400
TZNAME:EDT
DTSTART:20260308T070000
END:DAYLIGHT
BEGIN:STANDARD
TZOFFSETFROM:-0400
TZOFFSETTO:-0500
TZNAME:EST
DTSTART:20261101T060000
END:STANDARD
BEGIN:DAYLIGHT
TZOFFSETFROM:-0500
TZOFFSETTO:-0400
TZNAME:EDT
DTSTART:20270314T070000
END:DAYLIGHT
BEGIN:STANDARD
TZOFFSETFROM:-0400
TZOFFSETTO:-0500
TZNAME:EST
DTSTART:20271107T060000
END:STANDARD
END:VTIMEZONE
BEGIN:VEVENT
DTSTART;TZID=America/New_York:20260722T090000
DTEND;TZID=America/New_York:20260722T130000
DTSTAMP:20260423T140509
CREATED:20260204T203929Z
LAST-MODIFIED:20260319T175708Z
UID:10007559-1784710800-1784725200@amakerscircle.com
SUMMARY:Art In Action Summer Teen/Tween Camp with Andrea Gianchiglia (3 day camp\, July 22-24)
DESCRIPTION:3 day camp: 7/22-24 \nArt in Action: A Creative Summer Studio (Ages 10–15)\n\nThis summer camp is designed for young artists who want to explore how art is made. Through guided demonstrations and hands-on projects\, campers will work in a variety of subjects including plein air drawing and painting\, still lifes\, landscapes\, and basic perspective.\n\n\n\nStudents will experiment with watercolor\, acrylic\, colored pencil\, and mixed media\, while learning practical skills like color mixing\, layering\, mark-making\, and artistic decision-making. Each day balances clear instruction with creative freedom\, encouraging curiosity\, confidence\, and personal style. \nThis camp welcomes  growing artists\, with an emphasis on exploration\, progress\, and enjoying the creative process.
URL:https://amakerscircle.com/class-workshop/art-in-action-summer-camp-with-andrea-gianchiglia-3-day-camp/2026-07-22/
LOCATION:A Maker’s Circle Studio\, 8 Hacklebarney Road\, Pottersville\, NJ\, 07979\, United States
CATEGORIES:Andrea Gianchiglia,Kids,Studio D - Rae,Teen and Tween
ATTACH;FMTTYPE=image/jpeg:https://amakerscircle.com/wp-content/uploads/i-m5Zj9JZ-L.jpg
END:VEVENT
BEGIN:VEVENT
DTSTART;TZID=America/New_York:20260722T090000
DTEND;TZID=America/New_York:20260722T130000
DTSTAMP:20260423T140509
CREATED:20260204T224457Z
LAST-MODIFIED:20260408T184046Z
UID:10007566-1784710800-1784725200@amakerscircle.com
SUMMARY:Kids Art Camp: Art Sampler - Ages 5–9 (3 Days\, July 22-24 )
DESCRIPTION:Join Vanessa Lopez for a fun and creative 3-day art camp designed to let kids explore and experiment! Young artists will sample a variety of materials including paint\, clay\, paper mâché\, and more. This process-driven camp focuses on creativity over perfection\, encouraging kids to explore\, take risks\, and enjoy making art. With plenty of freedom to express themselves\, each child’s imagination leads the way—no experience needed\, just curiosity and enthusiasm! \nCancelation Policy: Cancelations made at least 2 weeks before camp begins\, will be refunded. Within 2 weeks\, tuition is non-refundable.
URL:https://amakerscircle.com/class-workshop/kids-art-camp-art-sampler-ages-5-9-5-days-july-22-24/2026-07-22/
LOCATION:A Maker’s Circle Studio\, 8 Hacklebarney Road\, Pottersville\, NJ\, 07979\, United States
CATEGORIES:Kids,Studio D - Rae,Vanessa Lopez,Young
ATTACH;FMTTYPE=image/heic:https://amakerscircle.com/wp-content/uploads/IMG_1573-scaled.jpg
END:VEVENT
END:VCALENDAR