BEGIN:VCALENDAR
VERSION:2.0
PRODID:-//a maker&#039;s circle - ECPv6.15.20//NONSGML v1.0//EN
CALSCALE:GREGORIAN
METHOD:PUBLISH
X-ORIGINAL-URL:https://amakerscircle.com
X-WR-CALDESC:Events for a maker&#039;s circle
REFRESH-INTERVAL;VALUE=DURATION:PT1H
X-Robots-Tag:noindex
X-PUBLISHED-TTL:PT1H
BEGIN:VTIMEZONE
TZID:America/New_York
BEGIN:DAYLIGHT
TZOFFSETFROM:-0500
TZOFFSETTO:-0400
TZNAME:EDT
DTSTART:20250309T070000
END:DAYLIGHT
BEGIN:STANDARD
TZOFFSETFROM:-0400
TZOFFSETTO:-0500
TZNAME:EST
DTSTART:20251102T060000
END:STANDARD
BEGIN:DAYLIGHT
TZOFFSETFROM:-0500
TZOFFSETTO:-0400
TZNAME:EDT
DTSTART:20260308T070000
END:DAYLIGHT
BEGIN:STANDARD
TZOFFSETFROM:-0400
TZOFFSETTO:-0500
TZNAME:EST
DTSTART:20261101T060000
END:STANDARD
BEGIN:DAYLIGHT
TZOFFSETFROM:-0500
TZOFFSETTO:-0400
TZNAME:EDT
DTSTART:20270314T070000
END:DAYLIGHT
BEGIN:STANDARD
TZOFFSETFROM:-0400
TZOFFSETTO:-0500
TZNAME:EST
DTSTART:20271107T060000
END:STANDARD
END:VTIMEZONE
BEGIN:VEVENT
DTSTART;TZID=America/New_York:20260619T100000
DTEND;TZID=America/New_York:20260619T130000
DTSTAMP:20260423T073830
CREATED:20260418T143638Z
LAST-MODIFIED:20260423T113437Z
UID:10010506-1781863200-1781874000@amakerscircle.com
SUMMARY:Pastel Pathways with Andrea Gianchiglia (June 2026)
DESCRIPTION:Coastal Currents: A Guided Exploration\nThis one-day\, Friday session offers a step-by-step journey into a vibrant seascape\, inspired by the image shown. All materials are provided. Explore color choices\, drawing\, values\, movement\, and layering techniques while capturing the beauty of crashing waves and atmospheric sky. Create in a relaxed\, fun environment and leave with a finished piece to be proud of!\n 
URL:https://amakerscircle.com/class-workshop/pastel-pathways-with-andrea-gianchiglia-june-monthly/
LOCATION:A Maker’s Circle Studio\, 8 Hacklebarney Road\, Pottersville\, NJ\, 07979\, United States
CATEGORIES:Adult,Andrea Gianchiglia,Painting,Studio D - Rae
ATTACH;FMTTYPE=image/jpeg:https://amakerscircle.com/wp-content/uploads/0C9DBECC-22E7-4426-9E18-5C557D392B3D.jpeg
ORGANIZER;CN="a maker's circle":MAILTO:amakerscircle@gmail.com
END:VEVENT
END:VCALENDAR