BEGIN:VCALENDAR
VERSION:2.0
PRODID:-//a maker&#039;s circle - ECPv6.15.20//NONSGML v1.0//EN
CALSCALE:GREGORIAN
METHOD:PUBLISH
X-WR-CALNAME:a maker&#039;s circle
X-ORIGINAL-URL:https://amakerscircle.com
X-WR-CALDESC:Events for a maker&#039;s circle
REFRESH-INTERVAL;VALUE=DURATION:PT1H
X-Robots-Tag:noindex
X-PUBLISHED-TTL:PT1H
BEGIN:VTIMEZONE
TZID:America/New_York
BEGIN:DAYLIGHT
TZOFFSETFROM:-0500
TZOFFSETTO:-0400
TZNAME:EDT
DTSTART:20250309T070000
END:DAYLIGHT
BEGIN:STANDARD
TZOFFSETFROM:-0400
TZOFFSETTO:-0500
TZNAME:EST
DTSTART:20251102T060000
END:STANDARD
BEGIN:DAYLIGHT
TZOFFSETFROM:-0500
TZOFFSETTO:-0400
TZNAME:EDT
DTSTART:20260308T070000
END:DAYLIGHT
BEGIN:STANDARD
TZOFFSETFROM:-0400
TZOFFSETTO:-0500
TZNAME:EST
DTSTART:20261101T060000
END:STANDARD
BEGIN:DAYLIGHT
TZOFFSETFROM:-0500
TZOFFSETTO:-0400
TZNAME:EDT
DTSTART:20270314T070000
END:DAYLIGHT
BEGIN:STANDARD
TZOFFSETFROM:-0400
TZOFFSETTO:-0500
TZNAME:EST
DTSTART:20271107T060000
END:STANDARD
END:VTIMEZONE
BEGIN:VEVENT
DTSTART;TZID=America/New_York:20260612T100000
DTEND;TZID=America/New_York:20260612T130000
DTSTAMP:20260421T181209
CREATED:20260406T202033Z
LAST-MODIFIED:20260406T225526Z
UID:10010443-1781258400-1781269200@amakerscircle.com
SUMMARY:Big Summer Skies! June Monthly Watercolor Class with Jackie Pankuck
DESCRIPTION:June is the month for gorgeous summer skies. Join us for a fun Friday photo reference and paint this “big” sky with artist\, Jackie Pankuck. Jackie will take you from drawing to finished painting in this 3 hour class meant for all experience levels.  Watercolor is the perfect medium to create the beautiful\, soft edges we see in big\, fluffy cumulous clouds . \nAll materials will be provided. \nStudents can cancel up to 1 week before class for a full refund. After that\, tuition is non refundable.
URL:https://amakerscircle.com/class-workshop/big-summer-skies-june-monthly-watercolor-class-with-jackie-pankuck/
LOCATION:A Maker’s Circle Studio\, 8 Hacklebarney Road\, Pottersville\, NJ\, 07979\, United States
CATEGORIES:Adult,Jackie Pankuck,Painting,Studio C - Sharon
ATTACH;FMTTYPE=image/jpeg:https://amakerscircle.com/wp-content/uploads/E85F2ED6-14B1-45DC-B909-F2D263A17376.jpeg
ORGANIZER;CN="a maker's circle":MAILTO:amakerscircle@gmail.com
END:VEVENT
END:VCALENDAR